BEGIN:VCALENDAR
VERSION:2.0
PRODID:-//ChamberMaster//Event Calendar 2.0//EN
METHOD:PUBLISH
X-PUBLISHED-TTL:P3D
REFRESH-INTERVAL:P3D
CALSCALE:GREGORIAN
BEGIN:VEVENT
DTSTART:20250712T223000Z
DTEND:20250712T233000Z
X-MICROSOFT-CDO-ALLDAYEVENT:FALSE
SUMMARY:Ribbon Cutting - Putnam Museum & Science Center
DESCRIPTION:The Putnam Museum and Science Center will hold a ribbon cutting on Saturday\, July 12\, 2025 at 5:30 PM. They are located at 1717 W. 12th Street in Davenport.\n\n\n\nThis is the VIP Reopening of the Putnam Reimagined Capital campaign\, nearly 10 years in the making.  They are marking the conclusion of construction projects and the opening of their Putnam Vault.  An open storage exhibit showcasing Putnam artifacts that have not previously been visible to the public.\n\n\n\nAttendees are invited to tour the exhibit after the ceremony. This exhibit has been three years in the making.
X-ALT-DESC;FMTTYPE=text/html:The Putnam Museum and Science Center will hold a ribbon cutting on Saturday\, July 12\, 2025&nbsp\;at 5:30 PM. They are located at 1717 W. 12<sup>th</sup> Street in Davenport.<br />\n<br />\nThis is the VIP Reopening of the Putnam Reimagined Capital campaign\, nearly 10 years in the making.&nbsp\; They are marking the conclusion of construction projects and the opening of their Putnam Vault.&nbsp\; An open storage exhibit showcasing Putnam artifacts that have not previously been visible to the public.<br />\n<br />\nAttendees are invited to tour the exhibit after the ceremony. This exhibit has been three years in the making.<br />\n&nbsp\;<br />\n&nbsp\;
LOCATION:Putnam Museum & Science Center 1717 W. 12th Street Davenport\, IA 52804
UID:e.2843.23973
SEQUENCE:3
DTSTAMP:20260425T015808Z
URL:https://member.quadcitieschamber.com/events/details/ribbon-cutting-putnam-museum-science-center-23973
END:VEVENT

END:VCALENDAR
