BEGIN:VCALENDAR
VERSION:2.0
PRODID:-//ChamberMaster//Event Calendar 2.0//EN
METHOD:PUBLISH
X-PUBLISHED-TTL:P3D
REFRESH-INTERVAL:P3D
CALSCALE:GREGORIAN
BEGIN:VEVENT
DTSTART:20170928T150000Z
DTEND:20170928T153000Z
X-MICROSOFT-CDO-ALLDAYEVENT:FALSE
SUMMARY:Ribbon Cutting - Quad Cities Convention & Visitors Bureau Visitors Center
DESCRIPTION:Quad Cities Convention & Visitors Bureau\, 136 E. 3rd St. Davenport\, IA 52801 (RiverCenter South building)\, will host a ribbon cutting ceremony on Thursday\, September 28 at 10am to celebrate their new Davenport visitor center.
X-ALT-DESC;FMTTYPE=text/html:<span style="font-size:14px\;"><span style="font-family:arial\;">Quad Cities Convention &amp\; Visitors Bureau\, 136 E. 3rd St. Davenport\, IA 52801 (RiverCenter South building)\, will host a ribbon cutting ceremony on Thursday\, September 28 at 10am to celebrate their new Davenport visitor center.&nbsp\;</span></span>
LOCATION:RiverCenter South Building 136 E. 3rd St. Davenport\, IA 52801
UID:e.2843.6414
SEQUENCE:3
DTSTAMP:20260423T220823Z
URL:https://member.quadcitieschamber.com/events/details/ribbon-cutting-quad-cities-convention-visitors-bureau-visitors-center-6414
END:VEVENT

END:VCALENDAR
