BEGIN:VCALENDAR
VERSION:2.0
PRODID:-//ChamberMaster//Event Calendar 2.0//EN
METHOD:PUBLISH
X-PUBLISHED-TTL:P3D
REFRESH-INTERVAL:P3D
CALSCALE:GREGORIAN
BEGIN:VEVENT
DTSTART:20170714T150000Z
DTEND:20170714T153000Z
X-MICROSOFT-CDO-ALLDAYEVENT:FALSE
SUMMARY:Ribbon Cutting - Quad City Arts/Metro Arts Apprenticeship Program Mural
DESCRIPTION:The Quad City Arts /Metro Arts Apprenticeship Program will host a ribbon cutting ceremony on Friday\, July 14th at 10am to showcase the completion of a nursery rhyme-themed mural located at the Fejervary Learning Center\, 1800 W. 12th St. Davenport\, IA 52801.\n\n \n\nFor more details about the project\, check out this Quad-City Times article.  \n\n \n\nDirections: \n\nFrom Division Street south of W. Locust Street\, turn west on 12th Street\, as if turning for the Putnam Museum. Go down 12th Street\, past the Museum\, through the intersection of Wilkes Avenue and into the park. The Learning Center is on the right with a big black fence around it.
X-ALT-DESC;FMTTYPE=text/html:<span style="font-size:14px\;"><span style="font-family:arial\;">The Quad City Arts /Metro Arts Apprenticeship Program will host a ribbon cutting ceremony on Friday\, July 14<sup>th</sup> at 10am to showcase the completion of a nursery rhyme-themed mural located at the Fejervary Learning Center\, 1800 W. 12<sup>th</sup> St. Davenport\, IA 52801.<br />\n&nbsp\;<br />\nFor more details about the project\, <a href="http://qctimes.com/entertainment/arts-and-theatre/art-students-add-splash-of-color-to-fejervary-park/article_f1928342-d831-585f-93e7-cd4b5b47a960.html">check out this Quad-City Times article</a>. &nbsp\;<br />\n&nbsp\;<br />\n<strong><span style="color:red\;">Directions: </span></strong><br />\nFrom Division Street south of W. Locust Street\, turn west on 12th Street\, as if turning for the Putnam Museum. Go down 12th Street\, past the Museum\, through the intersection of Wilkes Avenue and into the park. The Learning Center is on the right with a big black fence around it.</span></span>
LOCATION:Fejervary Learning Center 1800 W. 12th St. Davenport\, IA 52801 Directions: From Division Street south of W. Locust Street\, turn west on 12th Street\, as if turning for the Putnam Museum. Go down 12th Street\, past the Museum\, through the intersection of Wilkes Avenue and into the park. The Learning Center is on the right with a big black fence around it.
UID:e.2843.6329
SEQUENCE:3
DTSTAMP:20260424T003236Z
URL:https://member.quadcitieschamber.com/events/details/ribbon-cutting-quad-city-arts-metro-arts-apprenticeship-program-mural-6329
END:VEVENT

END:VCALENDAR
