BEGIN:VCALENDAR
VERSION:2.0
PRODID:-//ChamberMaster//Event Calendar 2.0//EN
METHOD:PUBLISH
X-PUBLISHED-TTL:P3D
REFRESH-INTERVAL:P3D
CALSCALE:GREGORIAN
BEGIN:VEVENT
DTSTART:20180213T163000Z
DTEND:20180213T170000Z
X-MICROSOFT-CDO-ALLDAYEVENT:FALSE
SUMMARY:Ribbon Cutting - Quad City Steamwheelers
DESCRIPTION:Quad City Steamwheelers\, 1601 River Dr. Suite 104 Moline\, IL 61265\, will host a ribbon cutting ceremony on Tuesday\, February 13 at 10:30am to celebrate the kick off of their upcoming season on February 25 and to showcase their new office space at Bass Street Landing in downtown Moline!\n\n \n\nThe Quad City Steamwheelers are a professional arena football team that provides the most exciting entertainment in the region with non-stop action for people of all ages at an economical price. The Steamwheelers also offer an amazing way for local businesses to leverage the fans of the Steamwheelers to generate new sales by becoming a Sponsor of the team. \n\n\n\nWebsite - http://steamwheelersfootball.com/ \n\nFacebook - https://www.facebook.com/QuadCitySteamwheelers \n\n \n\n*Located in downtown Moline next to Bass Street Chop House
X-ALT-DESC;FMTTYPE=text/html:<span style="font-family:arial\,sans-serif\;">Quad City Steamwheelers\, 1601 River Dr. Suite 104 Moline\, IL 61265\, will host a ribbon cutting ceremony on Tuesday\, February 13 at 10:30am to celebrate the kick off of their upcoming season on February 25 and to showcase their new office space at Bass Street Landing in downtown Moline!</span><br />\n&nbsp\;<br />\n<span style="font-family:arial\,sans-serif\;">The Quad City Steamwheelers are a professional arena football team that provides the most exciting entertainment in the region with non-stop action for people of all ages at an economical price. The Steamwheelers also offer an amazing way for local businesses to leverage the fans of the Steamwheelers to generate new sales by becoming a Sponsor of the team.&nbsp\;<br />\n<br />\nWebsite -&nbsp\;</span><a href="http://steamwheelersfootball.com/">http://steamwheelersfootball.com/</a>&nbsp\;<br />\n<span style="font-family:arial\,sans-serif\;">Facebook -&nbsp\;</span><a href="https://www.facebook.com/QuadCitySteamwheelers">https://www.facebook.com/QuadCitySteamwheelers&nbsp\;</a><br />\n&nbsp\;<br />\n<strong><span style="color:red\;"><span style="font-family:arial\,sans-serif\;">*Located in downtown Moline next to Bass Street Chop House</span></span></strong>
LOCATION:Quad City Steamwheelers 1601 River Dr. Suite 104 Moline\, IL 61265
UID:e.2843.10042
SEQUENCE:3
DTSTAMP:20260423T153746Z
URL:https://member.quadcitieschamber.com/events/details/ribbon-cutting-quad-city-steamwheelers-10042
END:VEVENT

END:VCALENDAR
