BEGIN:VCALENDAR
VERSION:2.0
PRODID:-//ChamberMaster//Event Calendar 2.0//EN
METHOD:PUBLISH
X-PUBLISHED-TTL:P3D
REFRESH-INTERVAL:P3D
CALSCALE:GREGORIAN
BEGIN:VEVENT
DTSTART:20181017T173000Z
DTEND:20181017T180000Z
X-MICROSOFT-CDO-ALLDAYEVENT:FALSE
SUMMARY:Ribbon Cutting - Quad City Storm
DESCRIPTION:The Quad City Storm will host a ribbon cutting ceremony on Wednesday\, October 17th at 12:30 pm to celebrate the new professional hockey team. An open house will take place immediately afterwards.
X-ALT-DESC;FMTTYPE=text/html:The Quad City Storm will host a ribbon cutting ceremony on Wednesday\, October 17th at 12:30 pm to celebrate the new professional hockey team. An open house will take place immediately afterwards.
LOCATION:The TaxSlayer Center 1201 River Drive Moline\, IL 61265
UID:e.2843.13496
SEQUENCE:3
DTSTAMP:20260423T030021Z
URL:https://member.quadcitieschamber.com/events/details/ribbon-cutting-quad-city-storm-13496
END:VEVENT

END:VCALENDAR
