BEGIN:VCALENDAR
VERSION:2.0
PRODID:-//ChamberMaster//Event Calendar 2.0//EN
METHOD:PUBLISH
X-PUBLISHED-TTL:P3D
REFRESH-INTERVAL:P3D
CALSCALE:GREGORIAN
BEGIN:VEVENT
DTSTART:20191022T140000Z
DTEND:20191022T143000Z
X-MICROSOFT-CDO-ALLDAYEVENT:FALSE
SUMMARY:Ribbon Cutting - Raising Cane's Chicken Fingers
DESCRIPTION:Raising Cane's will host a ribbon cutting on Tuesday\, October 22nd at 9:00 am to celebrate their Grand Opening. They are located next to Portillo's in Davenport. Food and prizes will be available.
X-ALT-DESC;FMTTYPE=text/html:<span style="font-size:16px\;"><span style="font-family:arial\;">Raising Cane&rsquo\;s will host a ribbon cutting on Tuesday\, October 22<sup>nd</sup> at 9:00 am to celebrate their Grand Opening. They are located next to Portillo&rsquo\;s in Davenport. Food and prizes will be available.</span></span>
LOCATION:2725 E. 53rd Street Davenport\, IA 52807 They are located next door to Portillo's
UID:e.2843.16913
SEQUENCE:3
DTSTAMP:20260422T083336Z
URL:https://member.quadcitieschamber.com/events/details/ribbon-cutting-raising-cane-s-chicken-fingers-16913
END:VEVENT

END:VCALENDAR
