BEGIN:VCALENDAR
VERSION:2.0
PRODID:-//ChamberMaster//Event Calendar 2.0//EN
METHOD:PUBLISH
X-PUBLISHED-TTL:P3D
REFRESH-INTERVAL:P3D
CALSCALE:GREGORIAN
BEGIN:VEVENT
DTSTART:20170922T200000Z
DTEND:20170922T203000Z
X-MICROSOFT-CDO-ALLDAYEVENT:FALSE
SUMMARY:Ribbon Cutting - Renewal by Andersen
DESCRIPTION:Renewal by Andersen of the Quad Cities\, 1008 W. 35th St. Davenport\, IA 52806\, will host a ribbon cutting ceremony on Friday\, September 22 at 3:00pm to celebrate the grand opening of their new Quad Cities showroom. An open house will follow until 7:00pm.\n\n \n\nClick here to visit their website for more information!
X-ALT-DESC;FMTTYPE=text/html:<span style="font-size:14px\;"><span style="font-family:arial\;">Renewal by Andersen of the Quad Cities\, 1008 W. 35th St. Davenport\, IA 52806\, will host a ribbon cutting ceremony on Friday\, September 22 at 3:00pm to celebrate the grand opening of their new Quad Cities showroom. An open house will follow until 7:00pm.<br />\n&nbsp\;<br />\n<a href="https://www.rbaofqc.com/">Click here</a> to visit their website for more information!</span></span>
LOCATION:1008 W. 35th St. Davenport\, IA 52806
UID:e.2843.6408
SEQUENCE:3
DTSTAMP:20260423T232505Z
URL:https://member.quadcitieschamber.com/events/details/ribbon-cutting-renewal-by-andersen-6408
END:VEVENT

END:VCALENDAR
