BEGIN:VCALENDAR
VERSION:2.0
PRODID:-//ChamberMaster//Event Calendar 2.0//EN
METHOD:PUBLISH
X-PUBLISHED-TTL:P3D
REFRESH-INTERVAL:P3D
CALSCALE:GREGORIAN
BEGIN:VEVENT
DTSTART:20191114T170000Z
DTEND:20191114T173000Z
X-MICROSOFT-CDO-ALLDAYEVENT:FALSE
SUMMARY:Ribbon Cutting - Revive & Renew Wholistic Therapies/Revive Cafe
DESCRIPTION:Revive & Renew Wholistic Therapies/Revive Caf  will host a ribbon cutting on Thursday\, November 14th at 11:00 am. An Open House will take place from 11:00 am to 7:00 pm. They will be hosting a yoga demonstration from 5:00 pm to 7:00 pm. Beverages and snacks will be served all day.\n\n\n\nRevive is a wellness center which includes\, massage\, myofascial release\, craniosacral therapy\, energy medicine\, yoga\, health talks\, full and new moon ceramonies. Revive Cafe is a healthy cafe that serves salads\, wraps\, soups\, juices made on site\, fresh made smoothies\, healthy snacks. They buy organic and from local farmers when possible\, their ingredients are fresh and the food is delicious!
X-ALT-DESC;FMTTYPE=text/html:<span style="font-size:16px\;"><span style="font-family:arial\;">Revive &amp\; Renew Wholistic Therapies/Revive Caf&eacute\; will host a ribbon cutting on Thursday\, November 14<sup>th</sup> at 11:00 am. An Open House will take place from 11:00 am to 7:00 pm. They will be hosting a yoga demonstration from 5:00 pm to 7:00 pm. Beverages and snacks will be served all day.</span></span><br />\n<br />\n<span style="font-size:16px\;"><span style="font-family:arial\;">Revive is a wellness center which includes\, massage\, myofascial release\, craniosacral therapy\, energy medicine\, yoga\, health talks\, full and new moon ceramonies. Revive Cafe is a healthy cafe that serves salads\, wraps\, soups\, juices made on site\, fresh made smoothies\, healthy snacks. They buy organic and from local farmers when possible\, their ingredients are fresh and the food is delicious! </span></span>
LOCATION:4360 Kennedy Drive East Moline\, IL 61244
UID:e.2843.16932
SEQUENCE:3
DTSTAMP:20260422T083518Z
URL:https://member.quadcitieschamber.com/events/details/ribbon-cutting-revive-renew-wholistic-therapies-revive-cafe-16932
END:VEVENT

END:VCALENDAR
