BEGIN:VCALENDAR
VERSION:2.0
PRODID:-//ChamberMaster//Event Calendar 2.0//EN
METHOD:PUBLISH
X-PUBLISHED-TTL:P3D
REFRESH-INTERVAL:P3D
CALSCALE:GREGORIAN
BEGIN:VEVENT
DTSTART:20181023T210000Z
DTEND:20181023T213000Z
X-MICROSOFT-CDO-ALLDAYEVENT:FALSE
SUMMARY:Ribbon Cutting - RI County Forest Preserve District - Dorrance Park
DESCRIPTION:The Rock Island County Forest Preserve District - Dorrance Park\, will host a ribbon cutting ceremony on Tuesday\, October 23 at 4:00 pm. to celebrate their new lighting system\, which will allow more nighttime games
X-ALT-DESC;FMTTYPE=text/html:The Rock Island County Forest Preserve District - Dorrance Park\, will host a ribbon cutting ceremony on Tuesday\, October 23 at 4:00 pm. to celebrate their new lighting system\, which will allow more nighttime games
LOCATION:307 Agnes Street Port Byron\, IL 61275 DIRECTIONS: Once on 94th Ave. N\, you'll see a baseball diamond to the south. There is an access road right next to the field. Turn onto the access road and follow it back to Diamond 3\, there will be a parking lot and the ribbon cutting will take place near the concessions stand a dugout of Diamond 3)
UID:e.2843.13511
SEQUENCE:3
DTSTAMP:20260423T043813Z
URL:https://member.quadcitieschamber.com/events/details/ribbon-cutting-ri-county-forest-preserve-district-dorrance-park-13511
END:VEVENT

END:VCALENDAR
