BEGIN:VCALENDAR
VERSION:2.0
PRODID:-//ChamberMaster//Event Calendar 2.0//EN
METHOD:PUBLISH
X-PUBLISHED-TTL:P3D
REFRESH-INTERVAL:P3D
CALSCALE:GREGORIAN
BEGIN:VEVENT
DTSTART:20190124T220000Z
DTEND:20190124T223000Z
X-MICROSOFT-CDO-ALLDAYEVENT:FALSE
SUMMARY:Ribbon Cutting - Rick Jennisch Photography
DESCRIPTION:Rick Jennisch Photography will host a ribbon cutting on Thursday\, January 24th at 4:00 pm to celebrate their new location.
X-ALT-DESC;FMTTYPE=text/html:Rick Jennisch Photography will host a ribbon cutting on Thursday\, January 24<sup>th</sup> at 4:00 pm to celebrate their new location.
LOCATION:1815 Grant Street Bettendorf\, IA 52722
UID:e.2843.13735
SEQUENCE:3
DTSTAMP:20260422T215636Z
URL:https://member.quadcitieschamber.com/events/details/ribbon-cutting-rick-jennisch-photography-13735
END:VEVENT

END:VCALENDAR
