BEGIN:VCALENDAR
VERSION:2.0
PRODID:-//ChamberMaster//Event Calendar 2.0//EN
METHOD:PUBLISH
X-PUBLISHED-TTL:P3D
REFRESH-INTERVAL:P3D
CALSCALE:GREGORIAN
BEGIN:VEVENT
DTSTART:20140717T213000Z
DTEND:20140717T220000Z
X-MICROSOFT-CDO-ALLDAYEVENT:FALSE
SUMMARY:Ribbon Cutting - River Bend Foodbank
DESCRIPTION:River Bend Foodbank\, located at 4010 Kimmel Dr. in Davenport\, will host a ribbon cutting ceremony on Thursday\, July 17th at 4:30 p.m.  River Bend Foodbank was established in 1982. Because of the farm implement crisis\, tens of thousands of high paying jobs were lost in the Quad City area\, and the demand was extremely high for assistance from food pantries and other relief organizations. A group of concerned citizens hoping to find a way to meet the increased demand for food to stock the pantries invited Second Harvest\, the national foodbank network to conduct a workshop detailing the foodbank concept. The decision was made to start a foodbank in the Quad Cities and become part of the Second Harvest network. John Deere contributed seed money to rent warehouse space and to hire an executive director and a warehouse manager. In the first year\, 190\,000 pounds of food was collected\, stored and distributed to food pantries and other non-profit agencies with feeding programs. The ribbon cutting ceremony will be to celebrate the grand opening of River Bend Foodbank’s new location in the Quad Cities.  The foodbank serves a 22 county area in Illinois and Iowa\; and also serves 300 agencies within those 22 counties.  For more information\, please visit www.riverbendfoodbank.org.
X-ALT-DESC;FMTTYPE=text/html:<FONT face=Calibri><P style="MARGIN: 0in 0in 0pt" class=MsoNormal>River Bend Foodbank\, located at 4010 Kimmel Dr. in Davenport\, will host a ribbon cutting ceremony on <B style="mso-bidi-font-weight: normal">Thursday\, July 17<SUP>th</SUP> at 4:30 p.m</B>. <?xml:namespace prefix = o ns = "urn:schemas-microsoft-com:office:office" /><o:p></o:p></P><P style="MARGIN: 0in 0in 0pt" class=MsoNormal><o:p>&nbsp\;</o:p></P><P style="MARGIN: 0in 0in 0pt" class=MsoNormal>River Bend Foodbank was established in 1982. Because of the farm implement crisis\, tens of thousands of high paying jobs were lost in the Quad City area\, and the demand was extremely high for assistance from food pantries and other relief organizations. A group of concerned citizens hoping to find a way to meet the increased demand for food to stock the pantries invited Second Harvest\, the national foodbank network to conduct a workshop detailing the foodbank concept. The decision was made to start a foodbank in the Quad Cities and become part of the Second Harvest network. John Deere contributed seed money to rent warehouse space and to hire an executive director and a warehouse manager. In the first year\, 190\,000 pounds of food was collected\, stored and distributed to food pantries and other non-profit agencies with feeding programs.<o:p></o:p></P><P style="MARGIN: 0in 0in 0pt" class=MsoNormal><o:p>&nbsp\;</o:p></P><P style="MARGIN: 0in 0in 0pt" class=MsoNormal>The ribbon cutting ceremony will be to celebrate the grand opening of River Bend Foodbank’s new location in the Quad Cities.<SPAN style="mso-spacerun: yes">&nbsp\; </SPAN>The foodbank serves a 22 county area in Illinois and Iowa\; and also serves 300 agencies within those 22 counties.<SPAN style="mso-spacerun: yes">&nbsp\; </SPAN>For more information\, please visit <A href="http://www.riverbendfoodbank.org"><FONT color=#0000ff>www.riverbendfoodbank.org</FONT></A>.<o:p></o:p></P><P style="MARGIN: 0in 0in 0pt" class=MsoNormal><o:p>&nbsp\;</o:p></P><P style="MARGIN: 0in 0in 0pt" class=MsoNormal><o:p></o:p>&nbsp\;</P></FONT>
LOCATION:River Bend Foodbank4010 Kimmel Dr. Davenport\, IA 52802
UID:e.2843.820
SEQUENCE:3
DTSTAMP:20260422T141017Z
URL:https://member.quadcitieschamber.com/events/details/ribbon-cutting-river-bend-foodbank-07-17-2014-820
END:VEVENT

END:VCALENDAR
