BEGIN:VCALENDAR
VERSION:2.0
PRODID:-//ChamberMaster//Event Calendar 2.0//EN
METHOD:PUBLISH
X-PUBLISHED-TTL:P3D
REFRESH-INTERVAL:P3D
CALSCALE:GREGORIAN
BEGIN:VEVENT
DTSTART:20190826T163000Z
DTEND:20190826T170000Z
X-MICROSOFT-CDO-ALLDAYEVENT:FALSE
SUMMARY:Ribbon Cutting - Rivermont Collegiate
DESCRIPTION:Rivermont Collegiate will host a ribbon cutting ceremony on Monday\, August 26 at 11:30 am. Refreshments and tours will be available after the ribbon cutting.
X-ALT-DESC;FMTTYPE=text/html:Rivermont Collegiate will host a ribbon cutting ceremony on Monday\, August 26 at 11:30 am. Refreshments and tours will be available after the ribbon cutting.<br />\n&nbsp\;
LOCATION:1821 Sunset Drive Bettendorf\, IA 52722
UID:e.2843.16026
SEQUENCE:3
DTSTAMP:20260422T113515Z
URL:https://member.quadcitieschamber.com/events/details/ribbon-cutting-rivermont-collegiate-16026
END:VEVENT

END:VCALENDAR
