BEGIN:VCALENDAR
VERSION:2.0
PRODID:-//ChamberMaster//Event Calendar 2.0//EN
METHOD:PUBLISH
X-PUBLISHED-TTL:P3D
REFRESH-INTERVAL:P3D
CALSCALE:GREGORIAN
BEGIN:VEVENT
DTSTART;VALUE=DATE:20170811
DTEND;VALUE=DATE:20170812
TRANSP:TRANSPARENT
X-MICROSOFT-CDO-ALLDAYEVENT:TRUE
SUMMARY:Ribbon Cutting - Rivermont Collegiate
DESCRIPTION:Rivermont Collegiate\, 1821 Sunset Dr. Bettendorf\, IA 52722 will host a ribbon cutting ceremony on Friday\, August 11 at 1pm to celebrate the completion of phase one of two construction projects on the Rivermont Collegiate campus\, the renovation of the old Carriage House.\n\nAn open house will take place 1pm   6pm. \n\n \n\nThe building will accommodate the School's new boarding program beginning this fall. It has 16 beds (mostly single with a shared bathroom)\, 2 dorm parent apartments\, a student commons\, and space for a classroom. There is also a courtyard where students and visitors can relax outside.\n\n \n\nThe Carriage House footprint remains intact\, the interior has been retrofitted for its new purpose. The exterior brick was repaired as well as iron accents\, including the balcony railing\, to maintain the building's character and historic accuracy. Built in 1915\, the Carriage House is one of several buildings on the then 24 acre estate. Today\, only the Mansion\, Carriage House and the former guesthouse (now known as Wallace House) remain on almost 9 acres of the original estate.
X-ALT-DESC;FMTTYPE=text/html:<span style="font-size:14px\;"><span style="font-family:arial\,sans-serif\;">Rivermont Collegiate\, 1821 Sunset Dr. Bettendorf\, IA 52722 will host a ribbon cutting ceremony on Friday\, August 11 at 1pm to celebrate the completion of phase one of two construction projects on the Rivermont Collegiate campus\, the renovation of the old Carriage House.</span><br />\n<span style="font-family:arial\,sans-serif\;">An open house will take place 1pm &ndash\; 6pm. </span><br />\n&nbsp\;<br />\n<span style="font-family:arial\,sans-serif\;">The building will accommodate the School&#39\;s new boarding program beginning this fall. It has 16 beds (mostly single with a shared bathroom)\, 2 dorm parent apartments\, a student commons\, and space for a classroom. There is also a courtyard where students and visitors can relax outside.</span><br />\n&nbsp\;<br />\n<span style="font-family:arial\,sans-serif\;">The Carriage House footprint remains intact\, the interior has been retrofitted for its new purpose. The exterior brick was repaired as well as iron accents\, including the balcony railing\, to maintain the building&#39\;s character and historic accuracy. Built in 1915\, the Carriage House is one of several buildings on the then 24 acre estate. Today\, only the Mansion\, Carriage House and the former guesthouse (now known as Wallace House) remain on almost 9 acres of the original estate.</span></span>
LOCATION:Rivermont Collegiate 1821 Sunset Dr. Bettendorf\, IA 52722
UID:e.2843.6353
SEQUENCE:3
DTSTAMP:20260423T231952Z
URL:https://member.quadcitieschamber.com/events/details/ribbon-cutting-rivermont-collegiate-6353
END:VEVENT

END:VCALENDAR
