BEGIN:VCALENDAR
VERSION:2.0
PRODID:-//ChamberMaster//Event Calendar 2.0//EN
METHOD:PUBLISH
X-PUBLISHED-TTL:P3D
REFRESH-INTERVAL:P3D
CALSCALE:GREGORIAN
BEGIN:VEVENT
DTSTART:20171017T210000Z
DTEND:20171017T233000Z
X-MICROSOFT-CDO-ALLDAYEVENT:FALSE
SUMMARY:Ribbon Cutting - Rock Valley Physical Therapy/Rock Valley Health
DESCRIPTION:Rock Valley Physical Therapy/Rock Valley Health\, 1700 N. Division St. Suite 200 Davenport\, IA 52806\, will host a ribbon cutting ceremony on Tuesday\, October 17 at 4pm to celebrate their move to a new location. An open house will follow until 6:30pm.\n\n \n\n*Located near the five points intersection on the second level of the Quad City Bank & Trust building\n\n \n\nRock Valley Health's Moline offices moved to the new location at the Five Points intersection in August of this year.  The new location is housed inside Rock Valley Physical Therapy's clinic\, which opened in March of this year. \n\n \n\n"We've been fortunate to have great relationships in Davenport and throughout the Quad Cities.  This location will give us the space and access to meet the wellness needs of our cities and more local companies\," said Ken Asta\, Director of Rock Valley Health.\n\n \n\nCorporate and personal clients are able to schedule appointments with Health Coaches and a Registered Dietitian at the convenient location on the southwest corner of Locust and Division.  Specialized services are available including corporate wellness programs\, individual health and fitness programs\, medical nutrition therapy and sports performance training. \n\nPhysical Therapy Clinic Manager Anna Perry\, PT\, DPT\, OCS\, says she is excited to have the wellness team in close proximity to coordinate patient care. \n\n \n\n "The addition of our wellness team on-site is a great resource to complement our physical therapists as we strive to improve the lives of our neighbors and local residents\," said Perry.\n\n \n\nSince opening in March\, the physical therapy clinic has allowed patients to schedule appointments within 24-48 hours and works to accommodate patient schedules.  Specialized services including bike fitting\, running analysis\, balance and vestibular treatments\, and return to work programs are offered in addition to orthopedic and sports physical therapy.\n\n \n\nAbout Rock Valley Health\n\nRock Valley Health was formed in 2014 to further expand the mission of Rock Valley Physical Therapy to improve the health of our Midwest communities.  Rock Valley Physical Therapy was founded in the Quad Cities in 1984\, and its ownership by local therapists allows it to remain focused on each patient's experience.  Rock Valley has grown to close to 300 employees working in thirty-one outpatient locations throughout Iowa and western Illinois. \n\n \n\nWhether it is a recent episode or chronic condition\, physical therapists are well equipped to not only treat pain but also its source.  Learn more about the types of conditions physical therapists can treat and locate a Rock Valley location near you at rockvalleypt.com or call 563-324-2263.
X-ALT-DESC;FMTTYPE=text/html:<span style="font-size:14px\;"><span style="font-family:arial\;">Rock Valley Physical Therapy/Rock Valley Health\, 1700 N. Division St. Suite 200 Davenport\, IA 52806\, will host a ribbon cutting ceremony on Tuesday\, October 17 at 4pm to celebrate their move to a new location. An open house will follow until 6:30pm.<br />\n&nbsp\;<br />\n<strong>*Located near the five points intersection on the second level of the Quad City Bank &amp\; Trust building</strong><br />\n&nbsp\;<br />\nRock Valley Health&rsquo\;s Moline offices moved to the new location at the Five Points intersection in August of this year.&nbsp\; The new location is housed inside Rock Valley Physical Therapy&rsquo\;s clinic\, which opened in March of this year.&nbsp\;<br />\n&nbsp\;<br />\n&ldquo\;We&rsquo\;ve been fortunate to have great relationships in Davenport and throughout the Quad Cities.&nbsp\; This location will give us the space and access to meet the wellness needs of our cities and more local companies\,&rdquo\; said Ken Asta\, Director of Rock Valley Health.<br />\n&nbsp\;<br />\nCorporate and personal clients are able to schedule appointments with Health Coaches and a Registered Dietitian at the convenient location on the southwest corner of Locust and Division.&nbsp\; Specialized services are available including corporate wellness programs\, individual health and fitness programs\, medical nutrition therapy and sports performance training.&nbsp\;<br />\nPhysical Therapy Clinic Manager Anna Perry\, PT\, DPT\, OCS\, says she is excited to have the wellness team in close proximity to coordinate patient care.&nbsp\;<br />\n&nbsp\;<br />\n&nbsp\;&ldquo\;The addition of our wellness team on-site is a great resource to complement our physical therapists as we strive to improve the lives of our neighbors and local residents\,&rdquo\; said Perry.<br />\n&nbsp\;<br />\nSince opening in March\, the physical therapy clinic has allowed patients to schedule appointments within 24-48 hours and works to accommodate patient schedules.&nbsp\; Specialized services including bike fitting\, running analysis\, balance and vestibular treatments\, and return to work programs are offered in addition to orthopedic and sports physical therapy.<br />\n&nbsp\;<br />\n<strong>About Rock Valley Health</strong><br />\nRock Valley Health was formed in 2014 to further expand the mission of Rock Valley Physical Therapy to improve the health of our Midwest communities.&nbsp\; Rock Valley Physical Therapy was founded in the Quad Cities in 1984\, and its ownership by local therapists allows it to remain focused on each patient&rsquo\;s experience.&nbsp\; Rock Valley has grown to close to 300 employees working in thirty-one outpatient locations throughout Iowa and western Illinois.&nbsp\;<br />\n&nbsp\;<br />\nWhether it is a recent episode or chronic condition\, physical therapists are well equipped to not only treat pain but also its source.&nbsp\; Learn more about the types of conditions physical therapists can treat and locate a Rock Valley location near you at rockvalleypt.com or call 563-324-2263.</span></span>
LOCATION:Rock Valley Physical Therapy/Rock Valley Health 1700 N. Division St. Suite 200 Davenport\, IA 52806 *Located near the five points intersection on the second level of the Quad City Bank & Trust building
UID:e.2843.8575
SEQUENCE:3
DTSTAMP:20260423T210550Z
URL:https://member.quadcitieschamber.com/events/details/ribbon-cutting-rock-valley-physical-therapy-rock-valley-health-8575
END:VEVENT

END:VCALENDAR
