BEGIN:VCALENDAR
VERSION:2.0
PRODID:-//ChamberMaster//Event Calendar 2.0//EN
METHOD:PUBLISH
X-PUBLISHED-TTL:P3D
REFRESH-INTERVAL:P3D
CALSCALE:GREGORIAN
BEGIN:VEVENT
DTSTART:20190530T150000Z
DTEND:20190530T153000Z
X-MICROSOFT-CDO-ALLDAYEVENT:FALSE
SUMMARY:Ribbon Cutting - Rouse Consulting Group
DESCRIPTION:Rouse Consulting Group will host a ribbon cutting ceremony on May 30 at 10:00 am to celebrate the acquisition of Davenport-based MSP Provider DCS Computer services
X-ALT-DESC;FMTTYPE=text/html:<br />\n<span style="font-size:14px\;"><span style="font-family:arial\;">Rouse Consulting Group will host a ribbon cutting ceremony on May 30 at 10:00 am to celebrate the acquisition of Davenport-based MSP Provider DCS Computer services</span></span>
LOCATION:422 16th Street Moline\, IL 61265
UID:e.2843.15374
SEQUENCE:3
DTSTAMP:20260422T163755Z
URL:https://member.quadcitieschamber.com/events/details/ribbon-cutting-rouse-consulting-group-15374
END:VEVENT

END:VCALENDAR
