BEGIN:VCALENDAR
VERSION:2.0
PRODID:-//ChamberMaster//Event Calendar 2.0//EN
METHOD:PUBLISH
X-PUBLISHED-TTL:P3D
REFRESH-INTERVAL:P3D
CALSCALE:GREGORIAN
BEGIN:VEVENT
DTSTART:20190725T153000Z
DTEND:20190725T160000Z
X-MICROSOFT-CDO-ALLDAYEVENT:FALSE
SUMMARY:Ribbon Cutting - RSM US LLP
DESCRIPTION:RSM US LLP will host a ribbon cutting ceremony on Thursday\, July 25 at 10:30 am to celebrate their new location in Davenport.\n\n\n\nRefreshments and a tour of the new facility will follow the ceremony.
X-ALT-DESC;FMTTYPE=text/html:<br />\n<span style="font-family:arial\,sans-serif\;">RSM US LLP will host a ribbon cutting ceremony on Thursday\, July 25 at 10:30 am to celebrate their new location in Davenport.<br />\n<br />\nRefreshments and a tour of the new facility will follow the ceremony.</span><br />\n&nbsp\;<br />\n&nbsp\;
LOCATION:4650 E. 53rd Street Davenport\, IA 52807
UID:e.2843.15422
SEQUENCE:3
DTSTAMP:20260422T113346Z
URL:https://member.quadcitieschamber.com/events/details/ribbon-cutting-rsm-us-llp-15422
END:VEVENT

END:VCALENDAR
