BEGIN:VCALENDAR
VERSION:2.0
PRODID:-//ChamberMaster//Event Calendar 2.0//EN
METHOD:PUBLISH
X-PUBLISHED-TTL:P3D
REFRESH-INTERVAL:P3D
CALSCALE:GREGORIAN
BEGIN:VEVENT
DTSTART:20180607T173000Z
DTEND:20180607T183000Z
X-MICROSOFT-CDO-ALLDAYEVENT:FALSE
SUMMARY:Ribbon Cutting - Scott Community College Urban Campus
DESCRIPTION:Scott Community College Urban Campus\, 101 W. 3rd St. Davenport\, IA 52801\, will host a ribbon cutting ceremony on Thursday\, June 7 at 12:30pm to celebrate their grand opening.\n\nA public open house including tours\, live music and refreshments will take place that evening 4pm   7pm. \n\n \n\n*The 12:30pm program will be in the Community Room in the Connector Building\, with the ribbon cutting immediately following in the entryway between the Connector and East Building.\n\n \n\nClick here for more information about the Urban Campus.
X-ALT-DESC;FMTTYPE=text/html:<span style="font-size:14px\;"><span style="font-family:arial\;">Scott Community College Urban Campus\, 101 W. 3<sup>rd</sup> St. Davenport\, IA 52801\, will host a ribbon cutting ceremony on Thursday\, June 7 at 12:30pm to celebrate their grand opening.<br />\n<span style="background:white\;">A public open house including tours\, live music and refreshments will take place that evening 4pm &ndash\; 7pm. </span><br />\n&nbsp\;<br />\n*The 12:30pm program will be in the Community Room in the Connector Building\, with the ribbon cutting immediately following in the entryway between the Connector and East Building.<br />\n&nbsp\;<br />\n<a href="https://www.eicc.edu/about-eicc/colleges-and-centers/urban-campus.aspx">Click here</a> for more information about the Urban Campus.</span></span>
LOCATION:Scott Community College Urban Campus 101 W. 3rd St. Davenport\, IA 52801
UID:e.2843.13304
SEQUENCE:3
DTSTAMP:20260423T105130Z
URL:https://member.quadcitieschamber.com/events/details/ribbon-cutting-scott-community-college-urban-campus-13304
END:VEVENT

END:VCALENDAR
