BEGIN:VCALENDAR
VERSION:2.0
PRODID:-//ChamberMaster//Event Calendar 2.0//EN
METHOD:PUBLISH
X-PUBLISHED-TTL:P3D
REFRESH-INTERVAL:P3D
CALSCALE:GREGORIAN
BEGIN:VEVENT
DTSTART:20180628T163000Z
DTEND:20180628T190000Z
X-MICROSOFT-CDO-ALLDAYEVENT:FALSE
SUMMARY:Ribbon Cutting - SENB Wealth Management
DESCRIPTION:SENB Wealth Management\, 3401 53rd Ave. Bettendorf\, IA 52722 (53rd Ave. and Devils Glen)\, will host a ribbon cutting ceremony on Thursday\, June 28 at 11:30am in celebration of their move to their recently-expanded 53rd @ Bettendorf Banking Center. \n\nA cookout lunch will be served immediately following the ribbon cutting until 2pm.
X-ALT-DESC;FMTTYPE=text/html:<span style="font-family:arial\,sans-serif\;">SENB Wealth Management\, 3401 53rd Ave. Bettendorf\, IA 52722 (53<sup>rd</sup> Ave. and Devils Glen)\, will host a ribbon cutting ceremony on Thursday\, June 28 at 11:30am in celebration of their move to their recently-expanded 53<sup>rd</sup> @ Bettendorf Banking Center. </span><br />\n<span style="font-family:arial\,sans-serif\;">A cookout lunch will be served immediately following the ribbon cutting until 2pm.</span>
LOCATION:3401 53rd Ave. Bettendorf\, IA 52722
UID:e.2843.13326
SEQUENCE:3
DTSTAMP:20260423T092121Z
URL:https://member.quadcitieschamber.com/events/details/ribbon-cutting-senb-wealth-management-13326
END:VEVENT

END:VCALENDAR
