BEGIN:VCALENDAR
VERSION:2.0
PRODID:-//ChamberMaster//Event Calendar 2.0//EN
METHOD:PUBLISH
X-PUBLISHED-TTL:P3D
REFRESH-INTERVAL:P3D
CALSCALE:GREGORIAN
BEGIN:VEVENT
DTSTART:20190802T180000Z
DTEND:20190802T183000Z
X-MICROSOFT-CDO-ALLDAYEVENT:FALSE
SUMMARY:Ribbon Cutting - Small Town Pastry
DESCRIPTION:Small Town Pastry will host a ribbon cutting ceremony on Friday\, August 2 at 1:00 pm to celebrate their Grand Opening.  They are located on the corner of Crow Creek Road & Middle Road. Sample pastries will be available for tasting.
X-ALT-DESC;FMTTYPE=text/html:<span style="font-family:arial\;"><span style="font-size:14px\;">Small Town Pastry will host a ribbon cutting ceremony on Friday\, August 2 at 1:00 pm to celebrate their Grand Opening.&nbsp\; They are located on the corner of Crow Creek Road &amp\; Middle Road. Sample pastries will be available for tasting.</span></span>
LOCATION:4572 Wyndham Drive Bettendorf\, IA 52722 They are located on the corner of Crow Creek Road & Middle Road
UID:e.2843.15485
SEQUENCE:3
DTSTAMP:20260422T100758Z
URL:https://member.quadcitieschamber.com/events/details/ribbon-cutting-small-town-pastry-15485
END:VEVENT

END:VCALENDAR
