BEGIN:VCALENDAR
VERSION:2.0
PRODID:-//ChamberMaster//Event Calendar 2.0//EN
METHOD:PUBLISH
X-PUBLISHED-TTL:P3D
REFRESH-INTERVAL:P3D
CALSCALE:GREGORIAN
BEGIN:VEVENT
DTSTART:20190118T220000Z
DTEND:20190118T223000Z
X-MICROSOFT-CDO-ALLDAYEVENT:FALSE
SUMMARY:Ribbon Cutting - Splash and Professor Thaddeus
DESCRIPTION:Splash and Professor Thaddeus (two separate businesses in one location)\, will be hosting a ribbon cutting ceremony on Friday\, January 18 at 4:00 pm.
X-ALT-DESC;FMTTYPE=text/html:Splash and Professor Thaddeus (two separate businesses in one location)\, will be hosting a ribbon cutting ceremony on Friday\, January 18 at 4:00 pm.
LOCATION:425 17th Street Moline\, IL 61265
UID:e.2843.13733
SEQUENCE:3
DTSTAMP:20260422T214743Z
URL:https://member.quadcitieschamber.com/events/details/ribbon-cutting-splash-and-professor-thaddeus-13733
END:VEVENT

END:VCALENDAR
