BEGIN:VCALENDAR
VERSION:2.0
PRODID:-//ChamberMaster//Event Calendar 2.0//EN
METHOD:PUBLISH
X-PUBLISHED-TTL:P3D
REFRESH-INTERVAL:P3D
CALSCALE:GREGORIAN
BEGIN:VEVENT
DTSTART:20190517T210000Z
DTEND:20190517T230000Z
X-MICROSOFT-CDO-ALLDAYEVENT:FALSE
SUMMARY:Ribbon Cutting - Sterling Federal Bank LPO
DESCRIPTION:Sterling Federal Bank will host a ribbon cutting ceremony on Friday\, May 17 at 4:00 pm to celebrate their new location. An Open House will follow the ceremony.
X-ALT-DESC;FMTTYPE=text/html:<span style="font-family:calibri\,sans-serif\;"><span style="font-size:11.0pt\;">Sterling Federal Bank will host a ribbon cutting ceremony on Friday\, May 17 at 4:00 pm to celebrate their new location. An Open House will follow the ceremony.</span></span>
LOCATION:5123 Middle Road\, Suite 140 Bettendorf\, IA 52722 Located on Middle Road between the round-a-bout and fire station. Turn on Red Fox Road from Middle Road. They are situated in the Powell Financial Group Building\; second entrance at the back of the building.
UID:e.2843.14318
SEQUENCE:3
DTSTAMP:20260422T150003Z
URL:https://member.quadcitieschamber.com/events/details/ribbon-cutting-sterling-federal-bank-lpo-14318
END:VEVENT

END:VCALENDAR
