BEGIN:VCALENDAR
VERSION:2.0
PRODID:-//ChamberMaster//Event Calendar 2.0//EN
METHOD:PUBLISH
X-PUBLISHED-TTL:P3D
REFRESH-INTERVAL:P3D
CALSCALE:GREGORIAN
BEGIN:VEVENT
DTSTART:20190625T210000Z
DTEND:20190625T213000Z
X-MICROSOFT-CDO-ALLDAYEVENT:FALSE
SUMMARY:Ribbon Cutting - Streamline Wellness
DESCRIPTION:Streamline Wellness is hosting a ribbon cutting ceremony on Tuesday\, June 25 at 4:00 pm\, to celebrate their new business. An Open House will take place from 4:00 pm   6:00 pm. Refreshments will be served.
X-ALT-DESC;FMTTYPE=text/html:<br />\nStreamline Wellness is hosting a ribbon cutting ceremony on Tuesday\, June 25 at 4:00 pm\, to celebrate their new business. An Open House will take place from 4:00 pm &ndash\; 6:00 pm. Refreshments will be served.
LOCATION:3441 Devil's Glen Road Bettendorf\, IA 52722
UID:e.2843.15417
SEQUENCE:3
DTSTAMP:20260422T145402Z
URL:https://member.quadcitieschamber.com/events/details/ribbon-cutting-streamline-wellness-15417
END:VEVENT

END:VCALENDAR
