BEGIN:VCALENDAR
VERSION:2.0
PRODID:-//ChamberMaster//Event Calendar 2.0//EN
METHOD:PUBLISH
X-PUBLISHED-TTL:P3D
REFRESH-INTERVAL:P3D
CALSCALE:GREGORIAN
BEGIN:VEVENT
DTSTART:20191105T220000Z
DTEND:20191105T223000Z
X-MICROSOFT-CDO-ALLDAYEVENT:FALSE
SUMMARY:Ribbon Cutting - Sunlight Yoga Center
DESCRIPTION:Sunlight Yoga Center will host a ribbon cutting on Tuesday\, November 5 at 4:00 pm.\n\nThey will hold an Open House from 4:00 p.m. to 8:00 p.m. A donation yoga class will take place at 6:00 p.m.
X-ALT-DESC;FMTTYPE=text/html:<span style="font-size:16px\;"><span style="font-family:arial\;">Sunlight Yoga Center will host a ribbon cutting on Tuesday\, November 5 at 4:00 pm.<br />\nThey will hold an Open House from 4:00 p.m. to 8:00 p.m. A donation yoga class will take place at 6:00 p.m.</span></span><br />\n&nbsp\;
LOCATION:1111 Jersey Ridge Road\, Suite 5 Davenport\, IA 52803
UID:e.2843.16904
SEQUENCE:3
DTSTAMP:20260422T083206Z
URL:https://member.quadcitieschamber.com/events/details/ribbon-cutting-sunlight-yoga-center-16904
END:VEVENT

END:VCALENDAR
