BEGIN:VCALENDAR
VERSION:2.0
PRODID:-//ChamberMaster//Event Calendar 2.0//EN
METHOD:PUBLISH
X-PUBLISHED-TTL:P3D
REFRESH-INTERVAL:P3D
CALSCALE:GREGORIAN
BEGIN:VEVENT
DTSTART:20190627T210000Z
DTEND:20190628T000000Z
X-MICROSOFT-CDO-ALLDAYEVENT:FALSE
SUMMARY:Ribbon Cutting - The Bend Event Center
DESCRIPTION:The Bend Event Center will hold a Ribbon Cutting and Open House on Thursday\, June 27\, to celebrate their new business.\n\n\n\nPlease RSVP here to attend.\n\n\n\nThe ribbon cutting will take place at 4:00 pm\, followed by a public Open House. Food and drinks will be provided\, featuring their in-house caterer\, Bass Street. There will also be entertainment and prizes provided by Local Quad City vendors.
X-ALT-DESC;FMTTYPE=text/html:<br />\n<span style="font-size:16px\;"><span style="font-family:arial\;">The Bend Event Center will hold a Ribbon Cutting and Open House on Thursday\, June 27\, to celebrate their new business.<br />\n<br />\n<strong>Please <a href="https://www.eventbrite.com/e/the-bend-event-center-open-house-ribbon-cutting-tickets-61165473578">RSVP here</a> to attend</strong>.<br />\n<br />\n<span style="color: rgb(51\, 51\, 51)\; background-color: rgb(255\, 255\, 255)\;">The ribbon cutting will take place at 4:00 pm\, followed by a public Open House. Food and drinks will be provided\, featuring their in-house caterer\, Bass Street. There will also be entertainment and prizes provided by Local Quad City vendors.</span></span></span>
LOCATION:910 Bend Boulevard East Moline\, IL 61244
UID:e.2843.15346
SEQUENCE:3
DTSTAMP:20260422T145450Z
URL:https://member.quadcitieschamber.com/events/details/ribbon-cutting-the-bend-event-center-15346
END:VEVENT

END:VCALENDAR
