BEGIN:VCALENDAR
VERSION:2.0
PRODID:-//ChamberMaster//Event Calendar 2.0//EN
METHOD:PUBLISH
X-PUBLISHED-TTL:P3D
REFRESH-INTERVAL:P3D
CALSCALE:GREGORIAN
BEGIN:VEVENT
DTSTART:20190402T143000Z
DTEND:20190402T150000Z
X-MICROSOFT-CDO-ALLDAYEVENT:FALSE
SUMMARY:Ribbon Cutting - The Cottage\, LLC
DESCRIPTION:The Cottage\, LLC will be hosting a ribbon cutting ceremony on Tuesday\, April 2 at 9:30 am to celebrate their new business. Breakfast will be provided to those who attend.
X-ALT-DESC;FMTTYPE=text/html:<span style="font-size:11.0pt\;">The Cottage\, LLC will be hosting a ribbon cutting ceremony on Tuesday\, April 2 at 9:30 am to celebrate their new business. Breakfast will be provided to those who attend.</span>
LOCATION:3112 Rockingham Road Davenport\, IA 52802
UID:e.2843.14264
SEQUENCE:3
DTSTAMP:20260422T163924Z
URL:https://member.quadcitieschamber.com/events/details/ribbon-cutting-the-cottage-llc-14264
END:VEVENT

END:VCALENDAR
