BEGIN:VCALENDAR
VERSION:2.0
PRODID:-//ChamberMaster//Event Calendar 2.0//EN
METHOD:PUBLISH
X-PUBLISHED-TTL:P3D
REFRESH-INTERVAL:P3D
CALSCALE:GREGORIAN
BEGIN:VEVENT
DTSTART:20170726T163000Z
DTEND:20170726T173000Z
X-MICROSOFT-CDO-ALLDAYEVENT:FALSE
SUMMARY:Ribbon Cutting - The Current Iowa
DESCRIPTION:The Current Iowa\, 215 N. Main St. Davenport\, IA 52801\, will host a ribbon cutting ceremony on Wednesday\, July 26 at 11:30am to celebrate their grand opening. \n\n\n\nAgenda:\n\n11:30     -Gather at 215 North Main Street\n\n11:45     -Remarks\n\n11:50     -Cutting\n\n12:00    -Tours    \n\n12:30     -VIVA will open for those looking to purchase lunch \n\n4:00        -Hotel Registration Opens
X-ALT-DESC;FMTTYPE=text/html:<span style="font-family:arial\,sans-serif\;"><span style="font-size:12.0pt\;">The Current Iowa\, 215 N. Main St. Davenport\, IA 52801\, will host a ribbon cutting ceremony on Wednesday\, July 26 at 11:30am to celebrate their grand opening.&nbsp\;</span></span><br />\n<br />\n<span style="font-family:arial\,sans-serif\;"><span style="font-size:12.0pt\;">Agenda:</span></span><br />\n<span style="font-family:arial\,sans-serif\;"><span style="font-size:12.0pt\;">11:30 &nbsp\;&nbsp\;&nbsp\; -Gather at 215 North Main Street</span></span><br />\n<span style="font-family:arial\,sans-serif\;"><span style="font-size:12.0pt\;">11:45 &nbsp\;&nbsp\;&nbsp\; -Remarks</span></span><br />\n<span style="font-family:arial\,sans-serif\;"><span style="font-size:12.0pt\;">11:50 &nbsp\;&nbsp\;&nbsp\; -Cutting</span></span><br />\n<span style="font-family:arial\,sans-serif\;"><span style="font-size:12.0pt\;">12:00&nbsp\;&nbsp\;&nbsp\; -Tours&nbsp\;&nbsp\;&nbsp\;&nbsp\;</span></span><br />\n<span style="font-family:arial\,sans-serif\;"><span style="font-size:12.0pt\;">12:30 &nbsp\;&nbsp\;&nbsp\; -VIVA will open for those looking to purchase lunch</span></span>&nbsp\;<br />\n<span style="font-family:arial\,sans-serif\;"><span style="font-size:12.0pt\;">4:00&nbsp\;&nbsp\;&nbsp\;&nbsp\;&nbsp\;&nbsp\;&nbsp\; -Hotel Registration Opens</span></span><br />\n&nbsp\;
LOCATION:The Current Iowa 215 N. Main St. Davenport\, IA 52801
UID:e.2843.6334
SEQUENCE:3
DTSTAMP:20260424T002934Z
URL:https://member.quadcitieschamber.com/events/details/ribbon-cutting-the-current-iowa-6334
END:VEVENT

END:VCALENDAR
