BEGIN:VCALENDAR
VERSION:2.0
PRODID:-//ChamberMaster//Event Calendar 2.0//EN
METHOD:PUBLISH
X-PUBLISHED-TTL:P3D
REFRESH-INTERVAL:P3D
CALSCALE:GREGORIAN
BEGIN:VEVENT
DTSTART:20170731T183000Z
DTEND:20170731T190000Z
X-MICROSOFT-CDO-ALLDAYEVENT:FALSE
SUMMARY:Ribbon Cutting - The Gold Coast Apartments
DESCRIPTION:The Gold Coast Apartments (formerly the Kahl Mansion)\, 1101 W. 9th St. Davenport\, IA 52804\, will host a ribbon cutting ceremony on Monday\, July 31 at 1:30pm to celebrate their grand opening.\n\n \n\nAbout:\n\nFormerly known as the historic Kahl Mansion in Davenport\, The Gold Coast Apartments is an upscale\, vibrant apartment community for active adults 50 and over. From contemporary modern to tasteful elegance\, it's got that will appeal to everyone. It's the perfect place if you're looking to downsize\, or if you're just ready to let someone else take care of maintenance and snow shoveling.\n\nClick here to visit their website.
X-ALT-DESC;FMTTYPE=text/html:<span style="font-family:arial\;"><span style="font-size:14px\;">The Gold Coast Apartments (formerly the Kahl Mansion)\, 1101 W. 9th St. Davenport\, IA 52804\, will host a ribbon cutting ceremony on Monday\, July 31 at 1:30pm to celebrate their grand opening.<br />\n&nbsp\;<br />\nAbout:<br />\nFormerly known as the historic Kahl Mansion in Davenport\, The Gold Coast Apartments is an upscale\, vibrant apartment community for active adults 50 and over. From contemporary modern to tasteful elegance\, it&rsquo\;s got that will appeal to everyone. It&rsquo\;s the perfect place if you&rsquo\;re looking to downsize\, or if you&rsquo\;re just ready to let someone else take care of maintenance and snow shoveling.<br />\n<a href="https://www.thegoldcoastapartments.com/">Click here</a> to visit their website.</span></span>
LOCATION:The Gold Coast Apartments (formerly the Kahl Mansion) 1101 W. 9th St. Davenport\, IA 52804
UID:e.2843.6344
SEQUENCE:3
DTSTAMP:20260424T003139Z
URL:https://member.quadcitieschamber.com/events/details/ribbon-cutting-the-gold-coast-apartments-6344
END:VEVENT

END:VCALENDAR
