BEGIN:VCALENDAR
VERSION:2.0
PRODID:-//ChamberMaster//Event Calendar 2.0//EN
METHOD:PUBLISH
X-PUBLISHED-TTL:P3D
REFRESH-INTERVAL:P3D
CALSCALE:GREGORIAN
BEGIN:VEVENT
DTSTART:20171201T220000Z
DTEND:20171201T223000Z
X-MICROSOFT-CDO-ALLDAYEVENT:FALSE
SUMMARY:Ribbon Cutting - The Hungry Hobo
DESCRIPTION:The Hungry Hobo\, 902 W. 4th St. Milan\, IL 61264\, will host a ribbon cutting ceremony on Friday\, December 1 at 4pm to celebrate its re-grand opening following a remodel.\n\n \n\n"While we're in the process of expanding our concept\, we also need to make sure our stores in the Quad Cities continue to be as inviting as possible." said Pryce T. Boeye\, President and CEO of the company. "In this case\, we were able to refurbish our Milan store\, which was relocated in 2007."\n\n \n\n**Located on the corner of W. 4th St and W. 10th Ave. next to B&B Hardware and CVS.
X-ALT-DESC;FMTTYPE=text/html:<span style="font-size:14px\;"><span style="font-family:arial\;">The Hungry Hobo\, 902 W. 4th St. Milan\, IL 61264\, will host a ribbon cutting ceremony on Friday\, December 1 at 4pm to celebrate its re-grand opening following a remodel.<br />\n&nbsp\;<br />\n&ldquo\;While we&rsquo\;re in the process of expanding our concept\, we also need to make sure our stores in the Quad Cities continue to be as inviting as possible.&rdquo\; said Pryce T. Boeye\, President and CEO of the company. &ldquo\;In this case\, we were able to refurbish our Milan store\, which was relocated in 2007.&rdquo\;<br />\n&nbsp\;<br />\n<strong>**Located on the corner of W. 4<sup>th</sup> St and W. 10<sup>th</sup> Ave. next to B&amp\;B Hardware and CVS.</strong></span></span>
LOCATION:The Hungry Hobo 902 W. 4th St. Milan\, IL 61264 **Located on the corner of W. 4th St and W. 10th Ave. next to B&B Hardware and CVS.
UID:e.2843.8838
SEQUENCE:3
DTSTAMP:20260423T181839Z
URL:https://member.quadcitieschamber.com/events/details/ribbon-cutting-the-hungry-hobo-8838
END:VEVENT

END:VCALENDAR
