BEGIN:VCALENDAR
VERSION:2.0
PRODID:-//ChamberMaster//Event Calendar 2.0//EN
METHOD:PUBLISH
X-PUBLISHED-TTL:P3D
REFRESH-INTERVAL:P3D
CALSCALE:GREGORIAN
BEGIN:VEVENT
DTSTART:20190117T170000Z
DTEND:20190117T173000Z
X-MICROSOFT-CDO-ALLDAYEVENT:FALSE
SUMMARY:Ribbon Cutting - The Project of the Quad Cities
DESCRIPTION:The Project of the Quad Cities will host a ribbon cutting ceremony on January 17th to celebrate their new location.
X-ALT-DESC;FMTTYPE=text/html:The Project of the Quad Cities will host a ribbon cutting ceremony on January 17th to celebrate their new location.
LOCATION:1701 River Drive\, Suite #110 Moline\, IL 61265 Located in the Caxton Building
UID:e.2843.13705
SEQUENCE:3
DTSTAMP:20260422T215743Z
URL:https://member.quadcitieschamber.com/events/details/ribbon-cutting-the-project-of-the-quad-cities-13705
END:VEVENT

END:VCALENDAR
