BEGIN:VCALENDAR
VERSION:2.0
PRODID:-//ChamberMaster//Event Calendar 2.0//EN
METHOD:PUBLISH
X-PUBLISHED-TTL:P3D
REFRESH-INTERVAL:P3D
CALSCALE:GREGORIAN
BEGIN:VEVENT
DTSTART:20190314T160000Z
DTEND:20190314T163000Z
X-MICROSOFT-CDO-ALLDAYEVENT:FALSE
SUMMARY:Ribbon Cutting - The Rock Island County Children's Advocacy Center
DESCRIPTION:The Rock Island County Children's Advocacy Center will host a ribbon cutting ceremony on March 14 at 11:00 am to celebrate their new expansion.
X-ALT-DESC;FMTTYPE=text/html:The Rock Island County Children&#39\;s Advocacy Center will host a ribbon cutting ceremony on March 14 at 11:00 am to celebrate their new expansion.
LOCATION:734 20th Street Rock Island\, IL 61201
UID:e.2843.13793
SEQUENCE:3
DTSTAMP:20260422T183645Z
URL:https://member.quadcitieschamber.com/events/details/ribbon-cutting-the-rock-island-county-children-s-advocacy-center-13793
END:VEVENT

END:VCALENDAR
