BEGIN:VCALENDAR
VERSION:2.0
PRODID:-//ChamberMaster//Event Calendar 2.0//EN
METHOD:PUBLISH
X-PUBLISHED-TTL:P3D
REFRESH-INTERVAL:P3D
CALSCALE:GREGORIAN
BEGIN:VEVENT
DTSTART:20250730T150000Z
DTEND:20250730T160000Z
X-MICROSOFT-CDO-ALLDAYEVENT:FALSE
SUMMARY:Ribbon Cutting - TWO MEN AND A JUNK TRUCK
DESCRIPTION:TWO MEN AND A JUNK TRUCK will host a ribbon cutting to celebrate this new service in the Quad Cities on Wednesday\, July 30\, 2025 at 10:00 AM.  The business is located at 5000 Tremont Avenue\, Building 200\, Suite 202\, in Davenport\, IA.\n\n \n\nTWO MEN AND A TRUCK's sister brand\, TWO MEN AND A JUNK TRUCK\, is now open in the Quad Cities! In response to the rising demand for dependable junk removal services in our community\, we jumped on the opportunity to open TWO MEN AND A JUNK TRUCK. This helps us better serve our TWO MEN AND A TRUCK customers that are in need of junk removal. With Two Men and a Junk Truck\, we've built a dedicated team and fleet of junk trucks focused exclusively on junk removal. We proudly offer same-day and next-day service\, making it faster and easier than ever to clean up your clutter.  \n\nFor more information\, please visit TWO MEN AND A JUNK TRUCK
X-ALT-DESC;FMTTYPE=text/html:TWO MEN AND A JUNK TRUCK will host a ribbon cutting to celebrate this new service in the Quad Cities on Wednesday\, July 30\, 2025 at 10:00 AM.&nbsp\; The business is located at 5000 Tremont Avenue\, Building 200\, Suite 202\, in Davenport\, IA.<br />\n&nbsp\;<br />\nTWO MEN AND A TRUCK&rsquo\;s sister brand\, TWO MEN AND A JUNK TRUCK\, is now open in the Quad Cities! In response to the rising demand for dependable junk removal services in our community\, we jumped on the opportunity to open TWO MEN AND A JUNK TRUCK. This helps us better serve our TWO MEN AND A TRUCK customers that are in need of junk removal. With Two Men and a Junk Truck\, we&rsquo\;ve built a dedicated team and fleet of junk trucks focused exclusively on junk removal. We proudly offer same-day and next-day service\, making it faster and easier than ever to clean up your clutter. &nbsp\;<br />\nFor more information\, please visit <a href="https://member.quadcitieschamber.com/list/Member/two-men-and-a-truck-two-men-and-a-junk-truck-30497">TWO MEN AND A JUNK TRUCK</a><br />\n&nbsp\;
LOCATION:TWO MEN AND A JUNK TRUCK 5000 Tremont Ave\, Bldg 200\, Suite 202 Davenport\, IA 52807
UID:e.2843.23970
SEQUENCE:3
DTSTAMP:20260425T015916Z
URL:https://member.quadcitieschamber.com/events/details/ribbon-cutting-two-men-and-a-junk-truck-23970
END:VEVENT

END:VCALENDAR
