BEGIN:VCALENDAR
VERSION:2.0
PRODID:-//ChamberMaster//Event Calendar 2.0//EN
METHOD:PUBLISH
X-PUBLISHED-TTL:P3D
REFRESH-INTERVAL:P3D
CALSCALE:GREGORIAN
BEGIN:VEVENT
DTSTART:20190418T181500Z
DTEND:20190418T190000Z
X-MICROSOFT-CDO-ALLDAYEVENT:FALSE
SUMMARY:Ribbon Cutting - Unity Point Health/SouthPark Pointe
DESCRIPTION:Unity Point Health will be holding a ribbon cutting ceremony to celebrate their new location\, called SouthPark Pointe\, on Thursday\, April 18 at 1:15 pm.
X-ALT-DESC;FMTTYPE=text/html:Unity Point Health will be holding a ribbon cutting ceremony to celebrate their new location\, called SouthPark Pointe\, on Thursday\, <strong><u><span style="color:red\;">April 18 at 1:15 pm</span></u></strong>.&nbsp\;
LOCATION:3904 16th Street Moline\, IL 61265 The clinic and facilities are located in the old Mills Chevrolet lot. The business faces 16th Street and is easily accessible from John Deere Road.
UID:e.2843.14294
SEQUENCE:3
DTSTAMP:20260422T181921Z
URL:https://member.quadcitieschamber.com/events/details/ribbon-cutting-unity-point-health-southpark-pointe-14294
END:VEVENT

END:VCALENDAR
