BEGIN:VCALENDAR
VERSION:2.0
PRODID:-//ChamberMaster//Event Calendar 2.0//EN
METHOD:PUBLISH
X-PUBLISHED-TTL:P3D
REFRESH-INTERVAL:P3D
CALSCALE:GREGORIAN
BEGIN:VEVENT
DTSTART:20200108T213000Z
DTEND:20200108T220000Z
X-MICROSOFT-CDO-ALLDAYEVENT:FALSE
SUMMARY:Ribbon Cutting - UnityPoint Clinic - Express
DESCRIPTION:UnityPoint Clinic   Express will host a ribbon cutting on Wednesday\, January 8th at 3:30 pm. An Open House will follow from 3:30   5:00 pm. Snacks and beverages will be provided.\n\n \n\nThe new clinic on Competition Drive provides a more convenient and personalized care option with a re-imagined and time-saving process to enhance the walk-in care experience. The Express model of care is a concierge service with a goal of door-to-door service in around 30 minutes\, and will be open 365 days a year from 8 a.m. to 8 p.m.
X-ALT-DESC;FMTTYPE=text/html:UnityPoint Clinic &ndash\; Express will host a ribbon cutting on Wednesday\, January 8<sup>th</sup> at 3:30 pm. An Open House will follow from 3:30 &ndash\; 5:00 pm. Snacks and beverages will be provided.<br />\n&nbsp\;<br />\nThe new clinic on Competition Drive provides a more convenient and personalized care option with a re-imagined and time-saving process to enhance the walk-in care experience. The Express model of care is a concierge service with a goal of door-to-door service in around 30 minutes\, and will be open 365 days a year from 8 a.m. to 8 p.m.
LOCATION:5185 Competition Drive (Corner of TBK Bank Sports Complex & Middle Road) Bettendorf\, IA 52722
UID:e.2843.17427
SEQUENCE:3
DTSTAMP:20260422T015107Z
URL:https://member.quadcitieschamber.com/events/details/ribbon-cutting-unitypoint-clinic-express-17427
END:VEVENT

END:VCALENDAR
