BEGIN:VCALENDAR
VERSION:2.0
PRODID:-//ChamberMaster//Event Calendar 2.0//EN
METHOD:PUBLISH
X-PUBLISHED-TTL:P3D
REFRESH-INTERVAL:P3D
CALSCALE:GREGORIAN
BEGIN:VEVENT
DTSTART:20171009T210000Z
DTEND:20171009T213000Z
X-MICROSOFT-CDO-ALLDAYEVENT:FALSE
SUMMARY:Ribbon Cutting - Utica Ridge YMCA
DESCRIPTION:The YMCA at Utica Ridge\, 4885 Utica Ridge Rd. Davenport\, IA 52807\, will host a ribbon cutting ceremony on Monday\, October 9 at 4pm to celebrate increased services to people who want to live healthy  - affordably   while participating in a range of programs\, from cutting edge training groups to Diabetes Prevention. \n\n \n\nA free\, community open house will take place all day. The open house will feature healthy eating demos\, trainers\, and small group workouts. The Y is also waiving the joining fee\, and providing 2 sessions with a personal trainer for new members. There will also be membership specials throughout the QC's all day to celebrate. Youth wellness classes will also be added to serve a greater population in search of healthy living options.\n\n \n\nAs the community grows and develops further into eastern Scott County\, the need to serve people from all backgrounds\, especially those who need financial assistance\, increases. The most recent renovations on all 3 floors of the YMCA were over $500\,000 and included equipment\, lighting\, paint\, carpet and re-purposing the central hub. \n\n \n\nThe community has been responding by joining together at the Scott County Family Y branch:\n\n \n\n  17\,000 visits at Utica YMCA each month\n\n  At this time last year\, 16% of new members received financial assistance at Utica Y\n\n  Utica hit record high of 4\,020 members this summer. The Scott Co. Y has 41\,000 members.\n\n  The YMCA provided trainers to 37% of new members in the past month at no cost to the public to ensure access for everyone\n\n  Across the country\, the YMCA's Diabetes Prevention Program is currently working with Medicare and Medicaid to curb this growing national epidemic\n\n \n\n"Men and women of all ages are participating and getting stronger\, healthier and living better lives\," said Brad Martell\, CEO of the Y. "We're grateful to our donors and members for giving us the ability to serve even more people with this expansion."
X-ALT-DESC;FMTTYPE=text/html:<span style="font-size:14px\;"><span style="font-family:arial\;">The YMCA at Utica Ridge\, 4885 Utica Ridge Rd. Davenport\, IA 52807\, will host a ribbon cutting ceremony on Monday\, October 9 at 4pm <span style="color:black\;">to celebrate increased services to people who want to live healthy &ndash\;- affordably &ndash\; while participating in a range of programs\, from cutting edge training groups to Diabetes Prevention. </span><br />\n&nbsp\;<br />\n<span style="color:black\;">A free\, community open house will take place all day. The open house will feature healthy eating demos\, trainers\, and small group workouts. The Y is also waiving the joining fee\, and providing 2 sessions with a personal trainer for new members. There will also be </span>membership specials throughout the QC&#39\;s all day to celebrate. <span style="color:black\;">Youth wellness classes will also be added to serve a greater population in search of healthy living options.</span><br />\n&nbsp\;<br />\n<span style="color:black\;">As the community grows and develops further into eastern Scott County\, the need to serve people from all backgrounds\, especially those who need financial assistance\, increases. The most recent renovations on all 3 floors of the YMCA were over $500\,000 and included equipment\, lighting\, paint\, carpet and re-purposing the central hub. </span><br />\n&nbsp\;<br />\n<span style="color:black\;">The community has been responding by joining together at the Scott County Family Y branch:</span><br />\n&nbsp\;<br />\n<span style="color:black\;">&#9642\; 17\,000 visits at Utica YMCA each month</span><br />\n<span style="color:black\;">&#9642\; At this time last year\, 16% of new members received financial assistance at Utica Y</span><br />\n<span style="color:black\;">&#9642\; Utica hit record high of 4\,020 members this summer. The Scott Co. Y has 41\,000 members.</span><br />\n<span style="color:black\;">&#9642\; The YMCA provided trainers to 37% of new members in the past month at no cost to the public to ensure access for everyone</span><br />\n<span style="color:black\;">&#9642\; Across the country\, the YMCA&rsquo\;s Diabetes Prevention Program is currently working with Medicare and Medicaid to curb this growing national epidemic</span><br />\n&nbsp\;<br />\n<span style="color:black\;">&ldquo\;Men and women of all ages are participating and getting stronger\, healthier and living better lives\,&rdquo\; said Brad Martell\, CEO of the Y. &ldquo\;We&rsquo\;re grateful to our donors and members for giving us the ability to serve even more people with this expansion.&rdquo\;</span></span></span>
LOCATION:The YMCA at Utica Ridge 4885 Utica Ridge Rd. Davenport\, IA 52807
UID:e.2843.8579
SEQUENCE:3
DTSTAMP:20260423T210117Z
URL:https://member.quadcitieschamber.com/events/details/ribbon-cutting-utica-ridge-ymca-8579
END:VEVENT

END:VCALENDAR
