BEGIN:VCALENDAR
VERSION:2.0
PRODID:-//ChamberMaster//Event Calendar 2.0//EN
METHOD:PUBLISH
X-PUBLISHED-TTL:P3D
REFRESH-INTERVAL:P3D
CALSCALE:GREGORIAN
BEGIN:VEVENT
DTSTART:20190523T150000Z
DTEND:20190524T033000Z
X-MICROSOFT-CDO-ALLDAYEVENT:FALSE
SUMMARY:Ribbon Cutting - Vera French Community Mental Health Center - Carol Center Dedication
DESCRIPTION:Vera French will host a grand opening\, rededication and open house of their new Carol Center on Thursday\, May 23 at 10:00 am.\n\n\n\nAn Open House\, building tours and light refreshments will follow the ceremony.
X-ALT-DESC;FMTTYPE=text/html:<br />\nVera French will host a grand opening\, rededication and open house of their new Carol Center on Thursday\, May 23 at 10:00 am.<br />\n<br />\nAn Open House\, building tours and light refreshments will follow the ceremony.
LOCATION:808 North Harrison Street Davenport\, IA 52803
UID:e.2843.15358
SEQUENCE:3
DTSTAMP:20260422T150559Z
URL:https://member.quadcitieschamber.com/events/details/ribbon-cutting-vera-french-community-mental-health-center-carol-center-dedication-15358
END:VEVENT

END:VCALENDAR
