BEGIN:VCALENDAR
VERSION:2.0
PRODID:-//ChamberMaster//Event Calendar 2.0//EN
METHOD:PUBLISH
X-PUBLISHED-TTL:P3D
REFRESH-INTERVAL:P3D
CALSCALE:GREGORIAN
BEGIN:VEVENT
DTSTART;VALUE=DATE:20170629
DTEND;VALUE=DATE:20170630
TRANSP:TRANSPARENT
X-MICROSOFT-CDO-ALLDAYEVENT:TRUE
SUMMARY:Ribbon Cutting - Vera French Pine Meadows
DESCRIPTION:Vera French\, 4656 W. Kimberly Rd. Davenport\, IA 52806 will host a ribbon cutting ceremony on Thursday\, June 29 at 3:00pm to celebrate the grand opening of Vera French Pine Meadows\, a new 15-bed residential care facility. An open house will take place until 6:00pm.\n\n \n\nBy completely remodeling a shuttered nursing home closed years ago\, Vera French Pine Meadows provides a 15-bed residential care facility for persons experiencing persistent mental illness featuring best-practice design concepts in an individualized care setting for long-term treatment.  It's the final stage in Vera French's three-year plans to phase out the historic Pine Knoll facility in order to comply with federal rules prohibiting institutionalization for residential services funded by Medicaid.  Residents at Pine Meadows will enjoy private rooms\, improved living spaces\, and updated treatment facilities.\n\n \n\nThe construction and design team for Vera French Pine Meadows included Russell and the Joseph Architectural Group.  For more information\, please visit their websites at www.russellco.com and www.jag-architects.com.
X-ALT-DESC;FMTTYPE=text/html:<span style="font-size:14px\;"><span style="font-family:arial\;">Vera French\, 4656 W. Kimberly Rd. Davenport\, IA 52806 will host a ribbon cutting ceremony on Thursday\, June 29 at 3:00pm to celebrate the grand opening of Vera French Pine Meadows\, a new 15-bed residential care facility. An open house will take place until 6:00pm.<br />\n&nbsp\;<br />\nBy completely remodeling a shuttered nursing home closed years ago\, Vera French Pine Meadows provides a 15-bed residential care facility for persons experiencing persistent mental illness featuring best-practice design concepts in an individualized care setting for long-term treatment.&nbsp\; It&rsquo\;s the final stage in Vera French&rsquo\;s three-year plans to phase out the historic Pine Knoll facility in order to comply with federal rules prohibiting institutionalization for residential services funded by Medicaid.&nbsp\; Residents at Pine Meadows will enjoy private rooms\, improved living spaces\, and updated treatment facilities.<br />\n&nbsp\;<br />\nThe construction and design team for Vera French Pine Meadows included Russell and the Joseph Architectural Group.&nbsp\; For more information\, please visit their websites at <a href="http://www.russellco.com">www.russellco.com</a> and <a href="http://jag-architects.com/">www.jag-architects.com</a>.&nbsp\;</span></span>
LOCATION:Vera French 4656 W. Kimberly Rd. Davenport\, IA 52806
UID:e.2843.6312
SEQUENCE:3
DTSTAMP:20260424T015357Z
URL:https://member.quadcitieschamber.com/events/details/ribbon-cutting-vera-french-pine-meadows-6312
END:VEVENT

END:VCALENDAR
