BEGIN:VCALENDAR
VERSION:2.0
PRODID:-//ChamberMaster//Event Calendar 2.0//EN
METHOD:PUBLISH
X-PUBLISHED-TTL:P3D
REFRESH-INTERVAL:P3D
CALSCALE:GREGORIAN
BEGIN:VEVENT
DTSTART:20180425T160000Z
DTEND:20180425T163000Z
X-MICROSOFT-CDO-ALLDAYEVENT:FALSE
SUMMARY:Ribbon Cutting - Verus Chiropractic
DESCRIPTION:Verus Chiropractic\, 1535 47th Ave. Suite 5 Moline\, IL 61265\, will host a ribbon cutting ceremony on Wednesday\, April 25 at 11am in celebration of their grand opening.\n\n \n\n \n\nAbout Verus Chiropractic: \n\nhttps://veruschiro.com/\n\n \n\nDr. Anette Svendsberget was born and raised in Rena\, a small town in the woods of Norway. She got interested in Chiropractic at the age of 16 after her mother took her to the chiropractor when she at one point was unable to get up off of the floor. The interest was triggered by the fact that someones hands could do so much and make such a big difference without any interference from drugs or surgery. Dr. Anette decided she wanted to help people in this same\, drug-free and non-invasive way as her chiropractor had helped her.\n\n \n\nDr. Anette attained a Bachelor of Sport Science in Norway\, and completed one year in Australia as part of the degree.  \n\nSince graduation from Palmer College of Chiropractic in Davenport Iowa\, in February of 2014\, she has been serving the people of her home country. She recently moved back to this side of the world\, and in her backpack\, she brought experience and expertise to share with the Quad Cities and surrounding communities.  \n\n \n\nDr. Anette is trained in the Gonstead system\, and has had extensive extra-curricular training. She has experience with patients of all ages\, ranging from newborns to 92-year-olds. \n\nWhile outside the office\,  she loves the outdoors\, spending time with family and friends\, reading\, cooking and enjoying the wonders of music.
X-ALT-DESC;FMTTYPE=text/html:<span style="font-family:arial\,sans-serif\;">Verus Chiropractic\, 1535 47th Ave. Suite 5 Moline\, IL 61265\, will host a ribbon cutting ceremony on Wednesday\, April 25 at 11am in celebration of their grand opening.</span><br />\n&nbsp\;<br />\n&nbsp\;<br />\n<strong><u><span style="font-family:arial\,sans-serif\;">About Verus Chiropractic: </span></u></strong><br />\n<span style="font-family:arial\,sans-serif\;"><a href="https://veruschiro.com/">https://veruschiro.com/</a></span><br />\n&nbsp\;<br />\n<span style="font-family:arial\,sans-serif\;">Dr. Anette Svendsberget</span> was born and raised in Rena\, a small town in the woods of Norway. She got interested in Chiropractic at the age of 16 after her mother took her to the chiropractor when she at one point was unable to get up off of the floor. The interest was triggered by the fact that someones hands could do so much and make such a big difference without any interference from drugs or surgery. Dr. Anette decided she wanted to help people in this same\, drug-free and non-invasive way as her chiropractor had helped her.<br />\n&nbsp\;<br />\n<span style="font-family:arial\,sans-serif\;">Dr. Anette attained a Bachelor of Sport Science in Norway\, and completed one year in Australia as part of the degree. &nbsp\;</span><br />\n<span style="font-family:arial\,sans-serif\;">Since graduation from Palmer College of Chiropractic in Davenport Iowa\, in February of 2014\, she has been serving the people of her home country. She recently moved back to this side of the world\, and in her backpack\, she brought experience and expertise to share with the Quad Cities and surrounding communities. &nbsp\;</span><br />\n&nbsp\;<br />\n<span style="font-family:arial\,sans-serif\;">Dr. Anette is trained in the Gonstead system\, and has had extensive extra-curricular training. She has experience with patients of all ages\, ranging from newborns to 92-year-olds.&nbsp\;</span><br />\n<span style="font-family:arial\,sans-serif\;">While outside the office\, &nbsp\;she loves the outdoors\, spending time with family and friends\, reading\, cooking and enjoying the wonders of music.&nbsp\;</span>
LOCATION:Verus Chiropractic 1535 47th Ave. Suite 5 Moline\, IL 61265
UID:e.2843.12134
SEQUENCE:3
DTSTAMP:20260423T122910Z
URL:https://member.quadcitieschamber.com/events/details/ribbon-cutting-verus-chiropractic-12134
END:VEVENT

END:VCALENDAR
