BEGIN:VCALENDAR
VERSION:2.0
PRODID:-//ChamberMaster//Event Calendar 2.0//EN
METHOD:PUBLISH
X-PUBLISHED-TTL:P3D
REFRESH-INTERVAL:P3D
CALSCALE:GREGORIAN
BEGIN:VEVENT
DTSTART:20190611T210000Z
DTEND:20190611T213000Z
X-MICROSOFT-CDO-ALLDAYEVENT:FALSE
SUMMARY:Ribbon Cutting - Wells Fargo Advisors
DESCRIPTION:Wells Fargo Advisors will host a ribbon cutting ceremony on Tuesday\, June 11 at 4:00 pm to celebrate a new location in the Quad Cities!\n\n\n\nTheir office is located in a remodeled/share space with Bush Construction on the east side of Victoria Avenue.\n\n\n\n\n\n\n\n\n\n"Wells Fargo Advisors is a trade name used by Wells Fargo Clearing Services\, LLC\, Member SIPC"
X-ALT-DESC;FMTTYPE=text/html:<br />\n<span style="font-family:arial\,sans-serif\;">Wells Fargo Advisors will host a ribbon cutting ceremony on Tuesday\, June 11 at 4:00 pm to celebrate a new location in the Quad Cities!<br />\n<br />\nTheir office is located in a remodeled/share space with Bush Construction on the east side of Victoria Avenue.</span><br />\n<br />\n<br />\n<br />\n<br />\n<strong><span style="font-size:14px\;"><span style="color: rgb(51\, 51\, 51)\; font-family: sans-serif\, Arial\, Verdana\, &quot\;Trebuchet MS&quot\;\; background-color: rgb(255\, 255\, 255)\;">&quot\;Wells Fargo Advisors is a trade name used by Wells Fargo Clearing Services\, LLC\, Member SIPC&quot\;</span></span></strong>
LOCATION:5407 Victoria Avenue Davenport\, IA 52807 Their office is located in a remodeled/shared space with Bush Construction on the east side of Victoria Avenue.
UID:e.2843.15373
SEQUENCE:3
DTSTAMP:20260422T145522Z
URL:https://member.quadcitieschamber.com/events/details/ribbon-cutting-wells-fargo-advisors-15373
END:VEVENT

END:VCALENDAR
