BEGIN:VCALENDAR
VERSION:2.0
PRODID:-//ChamberMaster//Event Calendar 2.0//EN
METHOD:PUBLISH
X-PUBLISHED-TTL:P3D
REFRESH-INTERVAL:P3D
CALSCALE:GREGORIAN
BEGIN:VEVENT
DTSTART:20171010T150000Z
DTEND:20171010T153000Z
X-MICROSOFT-CDO-ALLDAYEVENT:FALSE
SUMMARY:Ribbon Cutting - Wiki Business Group
DESCRIPTION:Wiki Business Group\, 2124 1/2 E. 11th St. Davenport\, IA 52803\, will host a ribbon cutting ceremony on Tuesday\, October 10 at 10:00am to celebrate their grand opening.\n\n \n\n*Located in the Village of East Davenport next to Lagomarcino's.\n\n \n\nClick here for more information about Wiki Business Group.
X-ALT-DESC;FMTTYPE=text/html:<span style="font-family:arial\;"><span style="font-size:14px\;">Wiki Business Group\, 2124 1/2 E. 11th St. Davenport\, IA 52803\, will host a ribbon cutting ceremony on Tuesday\, October 10 at 10:00am to celebrate their grand opening.<br />\n&nbsp\;<br />\n<strong>*Located in the Village of East Davenport next to Lagomarcino&rsquo\;s.</strong><br />\n&nbsp\;<br />\n<a href="http://wikibiz.info/about.html">Click here</a> for more information about Wiki Business Group.&nbsp\;</span></span>
LOCATION:Wiki Business Group 2124 1/2 E. 11th St. Davenport\, IA 52803 *Located in the Village of East Davenport next to Lagomarcinos
UID:e.2843.8572
SEQUENCE:3
DTSTAMP:20260423T210050Z
URL:https://member.quadcitieschamber.com/events/details/ribbon-cutting-wiki-business-group-8572
END:VEVENT

END:VCALENDAR
