BEGIN:VCALENDAR
VERSION:2.0
PRODID:-//ChamberMaster//Event Calendar 2.0//EN
METHOD:PUBLISH
X-PUBLISHED-TTL:P3D
REFRESH-INTERVAL:P3D
CALSCALE:GREGORIAN
BEGIN:VEVENT
DTSTART:20190516T210000Z
DTEND:20190516T213000Z
X-MICROSOFT-CDO-ALLDAYEVENT:FALSE
SUMMARY:Ribbon Cutting - WoodSpring Suites Davenport
DESCRIPTION:WoodSpring Suites Davenport will hold a ribbon cutting ceremony on Thursday\, May 16 to celebrate their Grand Opening.\n\n\n\nTheir weekend long celebration will include food\, beverages\, a chance to win a 2-year lease on one of two vehicles\, and many more fabulous prizes!
X-ALT-DESC;FMTTYPE=text/html:<span style="font-size:14px\;"><span style="font-family:arial\;">WoodSpring Suites Davenport will hold a ribbon cutting ceremony on Thursday\, May 16 to celebrate their Grand Opening.<br />\n<br />\nTheir weekend long celebration will include food\, beverages\, a chance to win a 2-year lease on one of two vehicles\, and many more fabulous prizes!</span></span><br />\n&nbsp\;
LOCATION:5315 Elmore Circle Davenport\, IA 52807
UID:e.2843.14337
SEQUENCE:3
DTSTAMP:20260422T164214Z
URL:https://member.quadcitieschamber.com/events/details/ribbon-cutting-woodspring-suites-davenport-14337
END:VEVENT

END:VCALENDAR
