BEGIN:VCALENDAR
VERSION:2.0
PRODID:-//ChamberMaster//Event Calendar 2.0//EN
METHOD:PUBLISH
X-PUBLISHED-TTL:P3D
REFRESH-INTERVAL:P3D
CALSCALE:GREGORIAN
BEGIN:VEVENT
DTSTART:20190521T200000Z
DTEND:20190521T203000Z
X-MICROSOFT-CDO-ALLDAYEVENT:FALSE
SUMMARY:Ribbon Cutting - Your CBD Store aka Natural Healing of Moline
DESCRIPTION:Your CBD Store (aka Natural Healing of Moline) will host a ribbon cutting ceremony on May 21 to celebrate their Moline location.\n\nSnacks and beverages will be provided.
X-ALT-DESC;FMTTYPE=text/html:Your CBD Store (aka Natural Healing of Moline) will host a ribbon cutting ceremony on May 21 to celebrate their Moline location.<br />\nSnacks and beverages will be provided.<br />\n&nbsp\;
LOCATION:4011 Avenue of the Cities Moline\, IL 61265
UID:e.2843.15345
SEQUENCE:3
DTSTAMP:20260422T150003Z
URL:https://member.quadcitieschamber.com/events/details/ribbon-cutting-your-cbd-store-aka-natural-healing-of-moline-15345
END:VEVENT

END:VCALENDAR
