BEGIN:VCALENDAR
VERSION:2.0
PRODID:-//ChamberMaster//Event Calendar 2.0//EN
METHOD:PUBLISH
X-PUBLISHED-TTL:P3D
REFRESH-INTERVAL:P3D
CALSCALE:GREGORIAN
BEGIN:VEVENT
DTSTART:20181116T160000Z
DTEND:20181116T162500Z
X-MICROSOFT-CDO-ALLDAYEVENT:FALSE
SUMMARY:Ribbon Cutting - Youth Service Bureau of Rock Island County
DESCRIPTION:Youth Service Bureau of Rock Island County will host a ribbon cutting ceremony on Friday\, November 16th at 10:00 am to celebrate their new location.
X-ALT-DESC;FMTTYPE=text/html:Youth Service Bureau of Rock Island County will host a ribbon cutting ceremony on Friday\, November 16<sup>th</sup> at 10:00 am to celebrate their new location.&nbsp\;
LOCATION:2610 41st Street Moline\, IL 61265 Across from Whitey's Ice Cream
UID:e.2843.13531
SEQUENCE:3
DTSTAMP:20260423T014837Z
URL:https://member.quadcitieschamber.com/events/details/ribbon-cutting-youth-service-bureau-of-rock-island-county-13531
END:VEVENT

END:VCALENDAR
