BEGIN:VCALENDAR
VERSION:2.0
PRODID:-//ChamberMaster//Event Calendar 2.0//EN
METHOD:PUBLISH
X-PUBLISHED-TTL:P3D
REFRESH-INTERVAL:P3D
CALSCALE:GREGORIAN
BEGIN:VEVENT
DTSTART:20180215T160000Z
DTEND:20180215T163000Z
X-MICROSOFT-CDO-ALLDAYEVENT:FALSE
SUMMARY:Ribbon Cutting - Zeglin's TV & Appliance
DESCRIPTION:Zeglin's\, 1833 E. Kimberly Rd. Davenport\, IA 52807\, will host a ribbon cutting ceremony on Thursday\, February 15 at 10am to celebrate their expansion and launch of a new Serta Mattress department.\n\n \n\nZeglin's is now your local mattress destination! They now carry Serta brand mattresses. For over 40 years\, they have prided themselves on being the appliance experts. They take the time to learn about their products and benefits for their customers. Now\, they will continue to do the same when it comes to what you need to have the best "sleep". Their location in Moline\, Illinois\, on the Avenue of the Cities\, and Davenport\, Iowa on East Kimberly Road\, have installed full displays of Serta mattresses\, pillows\, motion bases\, and accessories. Serta is the #1 mattress manufacturer in the United States\, and all mattresses are designed and manufactured in the US. Zeglin's is proud to be a Serta mattress retailer.
X-ALT-DESC;FMTTYPE=text/html:<span style="font-size:14px\;"><span style="font-family:arial\;">Zeglin&#39\;s\, 1833 E. Kimberly Rd. Davenport\, IA 52807\, will host a ribbon cutting ceremony on Thursday\, February 15 at 10am to celebrate their expansion and launch of a new Serta Mattress department.<br />\n&nbsp\;<br />\nZeglin&#39\;s is now your local mattress destination! They now carry Serta brand mattresses. For over 40 years\, they have prided themselves on being the appliance experts. They take the time to learn about their products and benefits for their customers. Now\, they will continue to do the same when it comes to what you need to have the best &quot\;sleep&quot\;. Their location in Moline\, Illinois\, on the Avenue of the Cities\, and Davenport\, Iowa on East Kimberly Road\, have installed full displays of Serta mattresses\, pillows\, motion bases\, and accessories. Serta is the #1 mattress manufacturer in the United States\, and all mattresses are designed and manufactured in the US. Zeglin&#39\;s is proud to be a Serta mattress retailer.</span></span>
LOCATION:Zeglin's 1833 E. Kimberly Rd. Davenport\, IA 52807
UID:e.2843.9978
SEQUENCE:3
DTSTAMP:20260423T153714Z
URL:https://member.quadcitieschamber.com/events/details/ribbon-cutting-zeglin-s-tv-appliance-9978
END:VEVENT

END:VCALENDAR
