BEGIN:VCALENDAR
VERSION:2.0
PRODID:-//ChamberMaster//Event Calendar 2.0//EN
METHOD:PUBLISH
X-PUBLISHED-TTL:P3D
REFRESH-INTERVAL:P3D
CALSCALE:GREGORIAN
BEGIN:VEVENT
DTSTART:20181101T170000Z
DTEND:20181101T173000Z
X-MICROSOFT-CDO-ALLDAYEVENT:FALSE
SUMMARY:Ribbon Cutting - Zeke's Island Cafe
DESCRIPTION:Zeke's Island Caf  will host a ribbon cutting ceremony on Thursday\, November 1st at noon to celebrate an expansion of their business.
X-ALT-DESC;FMTTYPE=text/html:Zeke&rsquo\;s Island Caf&eacute\; will host a ribbon cutting ceremony on Thursday\, November 1<sup>st</sup> at noon to celebrate an expansion of their business.<br />\n&nbsp\;<br />\n&nbsp\;
LOCATION:1509 N. Harrison Street Davenport\, IA 52803 Their parking lot is located in the back of the building. Please enter through the back to be directly in front of the new building. Harrison is a one-way\, so you may have to turn past the restaurant and go up through the alley.
UID:e.2843.13529
SEQUENCE:3
DTSTAMP:20260423T014235Z
URL:https://member.quadcitieschamber.com/events/details/ribbon-cutting-zeke-s-island-cafe-13529
END:VEVENT

END:VCALENDAR
