BEGIN:VCALENDAR
VERSION:2.0
PRODID:-//ChamberMaster//Event Calendar 2.0//EN
METHOD:PUBLISH
X-PUBLISHED-TTL:P3D
REFRESH-INTERVAL:P3D
CALSCALE:GREGORIAN
BEGIN:VEVENT
DTSTART:20130101T060000Z
DTEND:20131231T060000Z
X-MICROSOFT-CDO-ALLDAYEVENT:FALSE
SUMMARY:Ribbon Cuttings/Business Celebrations 2013
DESCRIPTION:Ribbon Cuttings/Business Celebrations 2013
X-ALT-DESC;FMTTYPE=text/html:Ribbon Cuttings/Business Celebrations 2013
LOCATION:
UID:e.2843.1667
SEQUENCE:3
DTSTAMP:20260421T105333Z
URL:https://member.quadcitieschamber.com/events/details/ribbon-cuttings-business-celebrations-2013-01-01-2013-1667
END:VEVENT

END:VCALENDAR
