BEGIN:VCALENDAR
VERSION:2.0
PRODID:-//ChamberMaster//Event Calendar 2.0//EN
METHOD:PUBLISH
X-PUBLISHED-TTL:P3D
REFRESH-INTERVAL:P3D
CALSCALE:GREGORIAN
BEGIN:VEVENT
DTSTART:20140101T060000Z
DTEND:20140101T060000Z
X-MICROSOFT-CDO-ALLDAYEVENT:FALSE
SUMMARY:Ribbon Cuttings/Business Celebrations 2014
DESCRIPTION:Ribbon Cuttings/Business Celebrations 2014
X-ALT-DESC;FMTTYPE=text/html:Ribbon Cuttings/Business Celebrations 2014
LOCATION:
UID:e.2843.1896
SEQUENCE:3
DTSTAMP:20260422T013501Z
URL:https://member.quadcitieschamber.com/events/details/ribbon-cuttings-business-celebrations-2014-01-01-2014-1896
END:VEVENT

END:VCALENDAR
