BEGIN:VCALENDAR
VERSION:2.0
PRODID:-//ChamberMaster//Event Calendar 2.0//EN
METHOD:PUBLISH
X-PUBLISHED-TTL:P3D
REFRESH-INTERVAL:P3D
CALSCALE:GREGORIAN
BEGIN:VEVENT
DTSTART:20200328T163000Z
DTEND:20200328T230000Z
X-MICROSOFT-CDO-ALLDAYEVENT:FALSE
SUMMARY:Ridgecrest Bowlfest 2020
DESCRIPTION:5 person bowling teams = $100 \, 11:30 a.m. Start Time\, Multiple Shifts Possible (if enough interest)\, 50/50 throughout the day\, Silent Auction\, Raffle Items. \n\n\n\nAll bowlers bowl 3 games on the same pair of lanes. Lane assignment will be the discretion of the tournament director. You must pay ahead of time to reserve your spot and your shift. Contact Carrie at the information listed below to sign up or for questions.\n\n\n\nWe also have sponsorship opportunities as well:\n\nSponsorship Information\n\n\n	\n	\n		Platinum: $1000 includes: Facebook Sponsor Spotlight\, website and all marketing materials mention. Also we will have a banner printed\, FREE of cost and placed over the lane all day throughout the event.\n		Gold: $750 includes: Facebook sponsor spotlight\, website and marketing materials mention.\n		Silver: $500 includes: Facebook spotlight and website mention.\n		Bronze: $250 includes: Marketing materials mention.
X-ALT-DESC;FMTTYPE=text/html:<p>5 person bowling teams = $100 \, 11:30 a.m. Start Time\, Multiple Shifts Possible (if enough interest)\, 50/50 throughout the day\, Silent Auction\, Raffle Items.&nbsp\;<br />\n<br />\n<span style="color:rgb(84\, 84\, 84)">All bowlers bowl 3 games on the same pair of lanes. Lane assignment&nbsp\;will be the discretion of the tournament director. You must pay ahead of time to reserve your spot and your shift. Contact Carrie at the information listed below to sign up or for questions.<br />\n<br />\nWe also have sponsorship opportunities as well:</span></p>\n\n<p><strong>Sponsorship Information</strong></p>\n\n<ul>\n	<li>\n	<ul>\n		<li><strong>Platinum</strong><span style="color:rgb(84\, 84\, 84)">: $1000 includes: Facebook Sponsor Spotlight\, website and all marketing materials mention. Also we will have a banner printed\, FREE of cost and placed over the lane all day throughout the event.</span></li>\n		<li><strong>Gold</strong><span style="color:rgb(84\, 84\, 84)">: $750 includes: Facebook sponsor spotlight\, website and marketing materials mention.</span></li>\n		<li><strong>Silver</strong><span style="color:rgb(84\, 84\, 84)">: $500 includes: Facebook spotlight and website mention.</span></li>\n		<li><strong>Bronze</strong><span style="color:rgb(84\, 84\, 84)">: $250 includes: Marketing materials mention.</span></li>\n	</ul>\n	</li>\n</ul>\n\n<p>&nbsp\;</p>\n
LOCATION:Leisure Lanes Bowling Alley\, 2802 W 73rd St. Davenport\, IA 52806
UID:e.2843.17084
SEQUENCE:3
DTSTAMP:20260421T221521Z
URL:https://member.quadcitieschamber.com/events/details/ridgecrest-bowlfest-2020-17084
END:VEVENT

END:VCALENDAR
