BEGIN:VCALENDAR
VERSION:2.0
PRODID:-//ChamberMaster//Event Calendar 2.0//EN
METHOD:PUBLISH
X-PUBLISHED-TTL:P3D
REFRESH-INTERVAL:P3D
CALSCALE:GREGORIAN
BEGIN:VEVENT
DTSTART:20200912T140000Z
DTEND:20200912T210000Z
X-MICROSOFT-CDO-ALLDAYEVENT:FALSE
SUMMARY:Ridgecrest Foundation 2nd Annual Golf Outing
DESCRIPTION:The Ridgecrest Foundation proudly presents our second annual Ridgecrest Foundation Golf Outing at Sunrise Golf Course in Bettendorf on Saturday\, September 12\, 2020. We will have a 9 a.m. and 1 p.m. flights with lunch being served from 11 a.m. to 1 p.m. for both flights. $200/4 person preferred ball tournament on a 9 hole course. We will have raffles\, silent auction\, lunch\, golf\, and a whole bunch of fun! All ages are welcome. Trophies will be provided for the winners of both flights. Proceeds benefit the Ridgecrest Foundation\, a 501(c)3 organization that supports the Ridgecrest Village and it's residents.
X-ALT-DESC;FMTTYPE=text/html:The Ridgecrest Foundation proudly presents our second annual Ridgecrest Foundation Golf Outing at Sunrise Golf Course in Bettendorf on Saturday\, September 12\, 2020. We will have a 9 a.m. and 1 p.m. flights with lunch being served from 11 a.m. to 1 p.m. for both flights. $200/4 person preferred ball tournament on a 9 hole course. We will have raffles\, silent auction\, lunch\, golf\, and a whole bunch of fun! All ages are welcome. Trophies will be provided for the winners of both flights. Proceeds benefit the Ridgecrest Foundation\, a 501(c)3 organization that supports the Ridgecrest Village and it&#39\;s residents.
LOCATION:Sunrise Golf Course
UID:e.2843.17896
SEQUENCE:3
DTSTAMP:20260421T123624Z
URL:https://member.quadcitieschamber.com/events/details/ridgecrest-foundation-2nd-annual-golf-outing-09-12-2020-17896
END:VEVENT

END:VCALENDAR
