BEGIN:VCALENDAR
VERSION:2.0
PRODID:-//ChamberMaster//Event Calendar 2.0//EN
METHOD:PUBLISH
X-PUBLISHED-TTL:P3D
REFRESH-INTERVAL:P3D
CALSCALE:GREGORIAN
BEGIN:VEVENT
DTSTART:20200912T133000Z
DTEND:20200912T230000Z
X-MICROSOFT-CDO-ALLDAYEVENT:FALSE
SUMMARY:Ridgecrest Foundation 2nd Annual Golf Outing
DESCRIPTION:The Ridgecrest Foundation is excited to announce our 2nd Annual Golf Outing on Saturday\, September 12 at Sunrise Golf Course in Bettendorf. $200/team. 4 person preferred ball format. Cost includes 9 holes of golf\, lunch\, raffle prize entry and a lot of FUN! Contact Carrie to sign up\, donate or sponsor today! cdreifurst@ridgecrestvillage.org or (239) 839-5024. EVERYONE IS WELCOME!
X-ALT-DESC;FMTTYPE=text/html:The Ridgecrest Foundation is excited to announce our 2nd Annual Golf Outing on Saturday\, September 12 at Sunrise Golf Course in Bettendorf. $200/team. 4 person preferred ball format. Cost includes 9 holes of golf\, lunch\, raffle prize entry and a lot of FUN! Contact Carrie to sign up\, donate or sponsor today! cdreifurst@ridgecrestvillage.org or (239) 839-5024. EVERYONE IS WELCOME!
LOCATION:Sunrise Golf Course\, 3947 Moencks Road\, Bettendorf\, IA 52722.
UID:e.2843.17879
SEQUENCE:3
DTSTAMP:20260421T123416Z
URL:https://member.quadcitieschamber.com/events/details/ridgecrest-foundation-2nd-annual-golf-outing-17879
END:VEVENT

END:VCALENDAR
