BEGIN:VCALENDAR
VERSION:2.0
PRODID:-//ChamberMaster//Event Calendar 2.0//EN
METHOD:PUBLISH
X-PUBLISHED-TTL:P3D
REFRESH-INTERVAL:P3D
CALSCALE:GREGORIAN
BEGIN:VEVENT
DTSTART:20170916T233500Z
DTEND:20170917T030000Z
X-MICROSOFT-CDO-ALLDAYEVENT:FALSE
SUMMARY:River Bandits Midwest League Championship Series Home Game
DESCRIPTION:For the twelfth time in franchise history\, the Quad Cities River Bandits are headed to the Midwest League Championship Series! Game three of the best-of-five series will be played at home on Saturday\, September 16. First pitch is at 6:35- please join us\, and cheer for your hometown team!
X-ALT-DESC;FMTTYPE=text/html:For the twelfth time in franchise history\, the Quad Cities River Bandits are headed to the Midwest League Championship Series! Game three of the best-of-five series will be played at home on Saturday\, September 16. First pitch is at 6:35- please join us\, and cheer for your hometown team!
LOCATION:Modern Woodmen Park 209 S. Gaines St. Davenport IA\, 52802
UID:e.2843.6415
SEQUENCE:3
DTSTAMP:20260423T220730Z
URL:https://member.quadcitieschamber.com/events/details/river-bandits-midwest-league-championship-series-home-game-6415
END:VEVENT

END:VCALENDAR
